BEGIN:VCALENDAR
VERSION:2.0
PRODID:-//ChamberMaster//Event Calendar 2.0//EN
METHOD:PUBLISH
X-PUBLISHED-TTL:P3D
REFRESH-INTERVAL:P3D
CALSCALE:GREGORIAN
BEGIN:VEVENT
DTSTART:20210507T200000Z
DTEND:20210508T000000Z
X-MICROSOFT-CDO-ALLDAYEVENT:FALSE
SUMMARY:Destination Downtown Lancaster Chocolate Walk
DESCRIPTION:Downtown Lancaster will be alive during this annual event. Indulge in the chocolate treats from downtown businesses and take advantage of downtown's outdoor refreshment area\, which allows you to purchase drinks from our downtown bars and restaurants to enjoy while on the walk.\n\nTo prevent crowding and prioritize safety\, this event will be held at two separate times (both on Friday\, May 7th). You'll select the time you want to participate in when purchasing your tickets.\n\n\n	\n	4:00 PM - 6:00 PM\n	\n	\n	6:00 PM - 8:00 PM\n	\n\n\nYou will also choose your "starting location"\, where you will check-in\n\n\n	\n	General Admission (Group 1) - Destination Downtown Lancaster's Office\n	\n	\n	General Admission (Group 2) - Visit Fairfield Count's Office\n	\n\n\nCheck- in at your starting location at the beginning of the event time you choose to receive your map\, goodie bag\, and wrist band. Once you have checked in\, make your way to the participating businesses to get your chocolate treats!\n\nPlease keep yourself and others safe during this event by following all state mandated safety guidelines while participating. Masks must be worn when inside chocolate walk locations and social distancing must be observed. We appreciate your cooperation in making this a safe event for all community members.\n\n\n\nClick HERE for tickets
X-ALT-DESC;FMTTYPE=text/html:<p id="yui_3_17_2_1_1617987605537_310" style="margin-top: 0px\; overflow-wrap: break-word\; font-family: &quot\;Libre Franklin&quot\;\; font-size: 18px\; letter-spacing: 1.08px\; background-color: rgb(255\, 255\, 255)\; white-space: pre-wrap\;">Downtown Lancaster will be alive during this annual event. Indulge in the chocolate treats from downtown businesses and take advantage of downtown&#39\;s outdoor refreshment area\, which allows you to purchase drinks from our downtown bars and restaurants to enjoy while on the walk.</p>\n\n<p style="overflow-wrap: break-word\; font-family: &quot\;Libre Franklin&quot\;\; font-size: 18px\; letter-spacing: 1.08px\; background-color: rgb(255\, 255\, 255)\; white-space: pre-wrap\;">To prevent crowding and prioritize safety\, this event will be held at two separate times (both on Friday\, May 7th). You&#39\;ll select the time you want to participate in when purchasing your tickets.</p>\n\n<ul data-rte-list="default" style="overflow-wrap: break-word\; font-family: &quot\;Libre Franklin&quot\;\; font-size: 18px\; letter-spacing: 1.08px\; background-color: rgb(255\, 255\, 255)\;">\n	<li style="list-style-type: none\; overflow-wrap: break-word\;">\n	<p style="margin-top: 0.5em\; margin-bottom: 0.5em\; overflow-wrap: break-word\; white-space: pre-wrap\;">4:00 PM - 6:00 PM</p>\n	</li>\n	<li style="list-style-type: none\; overflow-wrap: break-word\;">\n	<p style="margin-top: 0.5em\; margin-bottom: 0.5em\; overflow-wrap: break-word\; white-space: pre-wrap\;">6:00 PM - 8:00 PM</p>\n	</li>\n</ul>\n\n<p style="overflow-wrap: break-word\; font-family: &quot\;Libre Franklin&quot\;\; font-size: 18px\; letter-spacing: 1.08px\; background-color: rgb(255\, 255\, 255)\; white-space: pre-wrap\;">You will also choose your &quot\;starting location&quot\;\, where you will check-in</p>\n\n<ul data-rte-list="default" style="overflow-wrap: break-word\; font-family: &quot\;Libre Franklin&quot\;\; font-size: 18px\; letter-spacing: 1.08px\; background-color: rgb(255\, 255\, 255)\;">\n	<li style="list-style-type: none\; overflow-wrap: break-word\;">\n	<p style="margin-top: 0.5em\; margin-bottom: 0.5em\; overflow-wrap: break-word\; white-space: pre-wrap\;"><strong style="overflow-wrap: break-word\;">General Admission (Group 1) - </strong>Destination Downtown Lancaster&#39\;s Office</p>\n	</li>\n	<li style="list-style-type: none\; overflow-wrap: break-word\;">\n	<p style="margin-top: 0.5em\; margin-bottom: 0.5em\; overflow-wrap: break-word\; white-space: pre-wrap\;"><strong style="overflow-wrap: break-word\;">General Admission (Group 2) - </strong>Visit Fairfield Count&#39\;s Office</p>\n	</li>\n</ul>\n\n<p style="overflow-wrap: break-word\; font-family: &quot\;Libre Franklin&quot\;\; font-size: 18px\; letter-spacing: 1.08px\; background-color: rgb(255\, 255\, 255)\; white-space: pre-wrap\;">Check- in at your starting location at the beginning of the event time you choose to receive your map\, goodie bag\, and wrist band. Once you have checked in\, make your way to the participating businesses to get your chocolate treats!</p>\n\n<p style="margin-bottom: 0px\; overflow-wrap: break-word\; font-family: &quot\;Libre Franklin&quot\;\; font-size: 18px\; letter-spacing: 1.08px\; background-color: rgb(255\, 255\, 255)\; white-space: pre-wrap\;">Please keep yourself and others safe during this event by following all state mandated safety guidelines while participating. Masks must be worn when inside chocolate walk locations and social distancing must be observed. We appreciate your cooperation in making this a safe event for all community members.<br />\n<br />\nClick<a href="https://www.eventbrite.com/e/chocolate-walk-tickets-148935475015"> HERE</a> for tickets</p>\n
LOCATION:Downtown Lancaster
UID:e.3121.566
SEQUENCE:3
DTSTAMP:20260422T144633Z
URL:https://business.lancoc.org/events/details/destination-downtown-lancaster-chocolate-walk-566
END:VEVENT

END:VCALENDAR
