BEGIN:VCALENDAR
VERSION:2.0
PRODID:-//ChamberMaster//Event Calendar 2.0//EN
METHOD:PUBLISH
X-PUBLISHED-TTL:P3D
REFRESH-INTERVAL:P3D
CALSCALE:GREGORIAN
BEGIN:VEVENT
DTSTART:20210821T203000Z
DTEND:20210822T020000Z
X-MICROSOFT-CDO-ALLDAYEVENT:FALSE
SUMMARY:Destination Downtown Lancaster Brewfest
DESCRIPTION:SAVE THE DATE FOR BREWFEST!\n\nJoin us at Lancaster BrewFest in downtown Lancaster with over 25 different Ohio craft breweries on Saturday\, August 21st!\n\n\n\nFeatured Entertainment: Zack Attack.\n\n\n\nFeatured Food Trucks: Bob's Backyard Barbecue\, Hangry City and Uncle Will's Wagon.\n\n\n\n4:30pm: Event Start / VIP Tasting Begins\n\n6:00pm: General Admission Tasting Begins\n\n9:30pm: Tasting Ends\n\n10:00pm: Event Ends\n\n\n\nCheers!
X-ALT-DESC;FMTTYPE=text/html:SAVE THE DATE FOR BREWFEST!<br />\nJoin us at Lancaster BrewFest in downtown Lancaster with over 25 different Ohio craft breweries on Saturday\, August 21st!<br />\n<br />\nFeatured Entertainment: Zack Attack.<br />\n<br />\nFeatured Food Trucks: Bob&#39\;s Backyard Barbecue\, Hangry City and Uncle Will&#39\;s Wagon.<br />\n<br />\n4:30pm: Event Start / VIP Tasting Begins<br />\n6:00pm: General Admission Tasting Begins<br />\n9:30pm: Tasting Ends<br />\n10:00pm: Event Ends<br />\n<br />\nCheers!
LOCATION:Downtown Lancaster
UID:e.3121.628
SEQUENCE:3
DTSTAMP:20260422T091017Z
URL:https://business.lancoc.org/events/details/destination-downtown-lancaster-brewfest-628
END:VEVENT

END:VCALENDAR
