BEGIN:VCALENDAR
VERSION:2.0
PRODID:-//ChamberMaster//Event Calendar 2.0//EN
METHOD:PUBLISH
X-PUBLISHED-TTL:P3D
REFRESH-INTERVAL:P3D
CALSCALE:GREGORIAN
BEGIN:VEVENT
DTSTART:20210814T233000Z
DTEND:20210814T233000Z
X-MICROSOFT-CDO-ALLDAYEVENT:FALSE
SUMMARY:Destination Downtown Lancaster August Saturday Cinema
DESCRIPTION:On Saturday\, August 14th Destination Downtown Lancaster will be showing The Goonies on the square (by the bandstand). Come early to save your space and enjoy music and dancing starting at 7:30pm.\n\nBring blankets\, chairs\, and snacks and enjoy this family film under the stars in our beautiful downtown. The movie will begin at dusk\; approximately 9pm.\n\n \n\nConcessions are available at this event.\n\nIf you have any questions\, don't hesitate to call the office at 740-277-6607 or email the Marketing & Events Coordinator\, Colin Hietikko\, at colin@destinationdowntownlancaster.com
X-ALT-DESC;FMTTYPE=text/html:<p style="background-color: rgb(255\, 255\, 255)\; font-size: 18px\; font-family: &quot\;Libre Franklin&quot\;\; white-space: pre-wrap\; margin-top: 0px\; margin-bottom: 0px\; letter-spacing: 1.08px\;">On Saturday\, August 14th Destination Downtown Lancaster will be showing <em>The Goonies </em>on the square (by the bandstand). Come early to save your space and enjoy music and dancing starting at 7:30pm.</p>\n\n<p style="background-color: rgb(255\, 255\, 255)\; font-size: 18px\; font-family: &quot\;Libre Franklin&quot\;\; white-space: pre-wrap\; margin-top: 0px\; margin-bottom: 0px\; letter-spacing: 1.08px\;">Bring blankets\, chairs\, and snacks and enjoy this family film under the stars in our beautiful downtown. The movie will begin at dusk\; approximately 9pm.<br />\n&nbsp\;</p>\n\n<p style="background-color: rgb(255\, 255\, 255)\; font-size: 18px\; font-family: &quot\;Libre Franklin&quot\;\; white-space: pre-wrap\; margin-top: 0px\; margin-bottom: 0px\; letter-spacing: 1.08px\;">Concessions are available at this event.</p>\n\n<p style="background-color: rgb(255\, 255\, 255)\; font-size: 18px\; font-family: &quot\;Libre Franklin&quot\;\; white-space: pre-wrap\; margin-top: 0px\; margin-bottom: 0px\; letter-spacing: 1.08px\;">If you have any questions\, don&rsquo\;t hesitate to call the office at 740-277-6607 or email the Marketing &amp\; Events Coordinator\, Colin Hietikko\, at <a data-auth="NotApplicable" data-linkindex="0" href="mailto:colin@destinationdowntownlancaster.com?subject=Saturday%20Cinema%20Question" id="LPlnk700921" rel="noopener noreferrer" style="margin: 0px\; padding: 0px 0px 0.5em\; border-width: 0px 0px 1px\; border-top-style: initial\; border-right-style: initial\; border-bottom-style: solid\; border-left-style: initial\; border-top-color: initial\; border-right-color: initial\; border-bottom-color: rgba(134\, 133\, 154\, 0.42)\; border-left-color: initial\; border-image: initial\; font: inherit\; vertical-align: baseline\; color: rgb(134\, 133\, 154)\; background-color: transparent\; text-decoration-line: none\;" target="_blank">colin@destinationdowntownlancaster.com</a></p>\n
LOCATION:Downtown Lancaster by the Bandstand
UID:e.3121.644
SEQUENCE:3
DTSTAMP:20260422T091540Z
URL:https://business.lancoc.org/events/details/destination-downtown-lancaster-august-saturday-cinema-644
END:VEVENT

END:VCALENDAR
