BEGIN:VCALENDAR
VERSION:2.0
PRODID:-//ChamberMaster//Event Calendar 2.0//EN
METHOD:PUBLISH
X-PUBLISHED-TTL:P3D
REFRESH-INTERVAL:P3D
CALSCALE:GREGORIAN
BEGIN:VEVENT
DTSTART:20210614T143000Z
DTEND:20210617T193000Z
X-MICROSOFT-CDO-ALLDAYEVENT:FALSE
SUMMARY:Decorative Arts Center of Ohio's Make your Mark Summer Camp
DESCRIPTION:Here is an opportunity to explore four different methods of printing. \n\nStudents will have the artistic satisfaction of creating their own stamps to be used over and over again on a variety of surfaces. \n\nOn the second day\, an introduction to the art of Batik will lead students to create one-of-a-kind patterns on a fabric apron they can wear to create art for many years to come.\n\nStudents will learn the art of making their own cyanotypes (the oldest form of photography) and will use found objects and botanical items to create unique prints.\n\nOn the last day of camp\, students will create dry point etchings and print their creations with an antique press.\n\n\n\nFollow this link to register\n\nhttp://www.decartsohio.org/summer-camps.html
X-ALT-DESC;FMTTYPE=text/html:<span style="color: rgb(81\, 81\, 81)\; font-family: Arial\, Helvetica\, sans-serif\; font-size: 13px\; background-color: rgb(255\, 255\, 255)\;">Here is an opportunity to explore four different methods of printing.&nbsp\;</span><br style="color: rgb(81\, 81\, 81)\; font-family: Arial\, Helvetica\, sans-serif\; font-size: 13px\; background-color: rgb(255\, 255\, 255)\;" />\n<span style="color: rgb(81\, 81\, 81)\; font-family: Arial\, Helvetica\, sans-serif\; font-size: 13px\; background-color: rgb(255\, 255\, 255)\;">Students will have the artistic satisfaction of creating their own stamps to be used over and over again on a variety of surfaces.&nbsp\;</span><br style="color: rgb(81\, 81\, 81)\; font-family: Arial\, Helvetica\, sans-serif\; font-size: 13px\; background-color: rgb(255\, 255\, 255)\;" />\n<span style="color: rgb(81\, 81\, 81)\; font-family: Arial\, Helvetica\, sans-serif\; font-size: 13px\; background-color: rgb(255\, 255\, 255)\;">On the second day\, an introduction to the art of Batik will lead students to create one-of-a-kind patterns on a fabric apron they can wear to create art for many years to come.</span><br style="color: rgb(81\, 81\, 81)\; font-family: Arial\, Helvetica\, sans-serif\; font-size: 13px\; background-color: rgb(255\, 255\, 255)\;" />\n<span style="color: rgb(81\, 81\, 81)\; font-family: Arial\, Helvetica\, sans-serif\; font-size: 13px\; background-color: rgb(255\, 255\, 255)\;">Students will learn the art of making their own cyanotypes (the oldest form of photography) and will use found objects and botanical items to create unique prints.</span><br style="color: rgb(81\, 81\, 81)\; font-family: Arial\, Helvetica\, sans-serif\; font-size: 13px\; background-color: rgb(255\, 255\, 255)\;" />\n<span style="color: rgb(81\, 81\, 81)\; font-family: Arial\, Helvetica\, sans-serif\; font-size: 13px\; background-color: rgb(255\, 255\, 255)\;">On the last day of camp\, students will create dry point etchings and print their creations with an antique press.<br />\n<br />\nFollow this link to register<br />\n<a href="http://www.decartsohio.org/summer-camps.html">http://www.decartsohio.org/summer-camps.html</a></span>
LOCATION:Decorative Arts Center of Ohio 145 E. Main St. Lancaster\, Ohio 43130
UID:e.3121.567
SEQUENCE:3
DTSTAMP:20260422T125829Z
URL:https://business.lancoc.org/events/details/decorative-arts-center-of-ohio-s-make-your-mark-summer-camp-567
END:VEVENT

END:VCALENDAR
