BEGIN:VCALENDAR
VERSION:2.0
PRODID:-//ChamberMaster//Event Calendar 2.0//EN
METHOD:PUBLISH
X-PUBLISHED-TTL:P3D
REFRESH-INTERVAL:P3D
CALSCALE:GREGORIAN
BEGIN:VEVENT
DTSTART:20210606T180000Z
DTEND:20210606T180000Z
X-MICROSOFT-CDO-ALLDAYEVENT:FALSE
SUMMARY:Decorative Arts Center of Ohio's Curator's Talk with Randall Thropp
DESCRIPTION:Join Curator Randall Thropp as he talks about his inspiration for the exhibition and featured pieces. At the First United Methodist Church\, 163 E Wheeling St\, Lancaster\n \n\n$8/$5 members prepaid registration\, $10 at the door\n\n\n\nUse this link to register: http://www.decartsohio.org/exhibitions.html
X-ALT-DESC;FMTTYPE=text/html:<span style="color: rgb(81\, 81\, 81)\; font-family: Arial\, Helvetica\, sans-serif\; font-size: 13px\; background-color: rgb(255\, 255\, 255)\;">Join Curator Randall Thropp as he talks about his inspiration for the exhibition and featured pieces. At the&nbsp\;</span><strong style="color: rgb(81\, 81\, 81)\; font-family: Arial\, Helvetica\, sans-serif\; font-size: 13px\; background-color: rgb(255\, 255\, 255)\;">First United Methodist Church\, 163 E Wheeling St\, Lancaster</strong>\n<div>&nbsp\;</div>\n\n<div><strong style="color: rgb(81\, 81\, 81)\; font-family: Arial\, Helvetica\, sans-serif\; font-size: 13px\; background-color: rgb(255\, 255\, 255)\;">$8/$5 members prepaid registration\, $10 at the door<br />\n<br />\nUse this link to register:&nbsp\;</strong><a href="http://www.decartsohio.org/exhibitions.html">http://www.decartsohio.org/exhibitions.html</a></div>\n
LOCATION:First United Methodist Church 163 E Wheeling St\, Lancaster\, OH
UID:e.3121.593
SEQUENCE:3
DTSTAMP:20260422T125829Z
URL:https://business.lancoc.org/events/details/decorative-arts-center-of-ohio-s-curator-s-talk-with-randall-thropp-593
END:VEVENT

END:VCALENDAR
