BEGIN:VCALENDAR
VERSION:2.0
PRODID:-//ChamberMaster//Event Calendar 2.0//EN
METHOD:PUBLISH
X-PUBLISHED-TTL:P3D
REFRESH-INTERVAL:P3D
CALSCALE:GREGORIAN
BEGIN:VEVENT
DTSTART:20210918T150000Z
DTEND:20210918T170000Z
X-MICROSOFT-CDO-ALLDAYEVENT:FALSE
SUMMARY:Decorative Arts Center of Ohio\, Fashion of Our Times
DESCRIPTION:Fashion of Our Times\n\n \n\nSaturday\, September 18\n\n11:00 am-1:00 pm\, doors open 10:30 am\n\n$65\, on sale now\n\nJoin us for an intimate runway show\, where we will feature four leading Ohio-based designers. This dynamic show will include designs inspired by some of the Paramount film costumes in our exhibition. Join a panel discussion for the designers to share their inspiration\, vision\, and other behind-the-scenes details leading up to creating their collections. This event will take place outside\, in front of the Wendel Center for Art Education. \n\n \n\nDesigner: Tracy Powell\n\nBrand: House of Isa\n\nTracy Powell was born to play dress up\, which has now evolved into her love of costume design. Her love for textiles leads her to playing with the rough and soft\, the shiny and dull - and her whimsical nature reflects her avant-garde approach.\n\n \n\nDesigner: Xuena Pu\n\nBrand: Xuena\n\nXuena Pu endeavors to create avant-garde wearable art by applying traditional Chinese textile techniques from the ancient city of Kaifeng\, where her mother and grandmother taught and inspired her. Her latest work was inspired by her fascination with macram  plant hangers and includes a combination of natural fabrics and waste yarn that has been rescued from local weavers\, also reflecting her concern for sustainability and mindful making.\n\n \n\nDesigner: Dom Susi\n\n Dom Susi is a recent graduate of Columbus College of Art and Design\, who\, when not working on his clothing\, usually explores new trends and styles as well as rockstar memoirs. He views fashion design as the "ideal art" because he believes it adds a sense of utility that most of the fine arts fail to provide.\n\n \n\nDesigner: Celeste Malvar-Stewart\n\nBrand: MALVAR = STEWART\n\nCeleste Malvar-Stewart focuses on creating unique\, sustainable and ethical pieces. She works with Ohio farmers to obtain wool and alpaca fibres from their happy animals to create couture hand-felted and minimal waste fashion\, often incorporating natural dyes. Her goal is to create a connection between ourselves and what we wear as to add greater value to our clothing and extend their use\, while supporting local family farms and promoting their fibres.\n\n\n\nhttps://www.eventbrite.com/e/fashion-of-our-times-a-runway-show-featuring-four-ohio-based-designers-tickets-167499979949
X-ALT-DESC;FMTTYPE=text/html:<div style="text-align: center\;"><span style="font-size:16px\;"><font color="#515151"><b>Fashion of Our Times</b></font></span><br />\n&nbsp\;</div>\n\n<div><font color="#515151"><b>Saturday\, September 18</b></font></div>\n\n<div><font color="#515151"><b>11:00 am-1:00 pm\, doors open 10:30 am</b></font></div>\n\n<div><font color="#515151"><b>$65\, on sale now</b></font></div>\n\n<div><font color="#515151"><b>Join us for an intimate runway show\, where we will feature four leading Ohio-based designers. This dynamic show will include designs inspired by some of the Paramount film costumes in our exhibition. Join a panel discussion for the designers to share their inspiration\, vision\, and other behind-the-scenes details leading up to creating their collections. This event will take place outside\, in front of the Wendel Center for Art Education.&nbsp\;</b></font></div>\n\n<div>&nbsp\;</div>\n\n<div><font color="#515151"><b>Designer: Tracy Powell</b></font></div>\n\n<div><font color="#515151"><b>Brand: House of Isa</b></font></div>\n\n<div><font color="#515151"><b>Tracy Powell was born to play dress up\, which has now evolved into her love of costume design. Her love for textiles leads her to playing with the rough and soft\, the shiny and dull - and her whimsical nature reflects her avant-garde approach.</b></font></div>\n\n<div>&nbsp\;</div>\n\n<div><font color="#515151"><b>Designer: Xuena Pu</b></font></div>\n\n<div><font color="#515151"><b>Brand: Xuena</b></font></div>\n\n<div><font color="#515151"><b>Xuena Pu endeavors to create avant-garde wearable art by applying traditional Chinese textile techniques from the ancient city of Kaifeng\, where her mother and grandmother taught and inspired her. Her latest work was inspired by her fascination with macram&eacute\; plant hangers and includes a combination of natural fabrics and waste yarn that has been rescued from local weavers\, also reflecting her concern for sustainability and mindful making.</b></font></div>\n\n<div>&nbsp\;</div>\n\n<div><font color="#515151"><b>Designer: Dom Susi</b></font></div>\n\n<div><font color="#515151"><b>&#8203\;Dom Susi is a recent graduate of Columbus College of Art and Design\, who\, when not working on his clothing\, usually explores new trends and styles as well as rockstar memoirs. He views fashion design as the &quot\;ideal art&quot\; because he believes it adds a sense of utility that most of the fine arts fail to provide.</b></font></div>\n\n<div><font color="#515151"><b>&#8203\;</b></font></div>\n\n<div><font color="#515151"><b>Designer: Celeste Malvar-Stewart</b></font></div>\n\n<div><font color="#515151"><b>Brand: MALVAR = STEWART</b></font></div>\n\n<div><font color="#515151"><b>Celeste Malvar-Stewart focuses on creating unique\, sustainable and ethical pieces. She works with Ohio farmers to obtain wool and alpaca fibres from their happy animals to create couture hand-felted and minimal waste fashion\, often incorporating natural dyes. Her goal is to create a connection between ourselves and what we wear as to add greater value to our clothing and extend their use\, while supporting local family farms and promoting their fibres.</b></font></div>\n\n<div><br />\n<a href="https://www.eventbrite.com/e/fashion-of-our-times-a-runway-show-featuring-four-ohio-based-designers-tickets-167499979949"><font color="#515151"><b>https://www.eventbrite.com/e/fashion-of-our-times-a-runway-show-featuring-four-ohio-based-designers-tickets-167499979949</b></font></a></div>\n
LOCATION:The Decorative Arts Center of Ohio 145 E. Main Street Lancaster\, OH 43130
UID:e.3121.671
SEQUENCE:3
DTSTAMP:20260420T073832Z
URL:https://business.lancoc.org/events/details/decorative-arts-center-of-ohio-fashion-of-our-times-671
END:VEVENT

END:VCALENDAR
