BEGIN:VCALENDAR
VERSION:2.0
PRODID:-//ChamberMaster//Event Calendar 2.0//EN
METHOD:PUBLISH
X-PUBLISHED-TTL:P3D
REFRESH-INTERVAL:P3D
CALSCALE:GREGORIAN
BEGIN:VEVENT
DTSTART;VALUE=DATE:20211212
DTEND;VALUE=DATE:20211213
TRANSP:TRANSPARENT
X-MICROSOFT-CDO-ALLDAYEVENT:TRUE
SUMMARY:Decorative Arts Center of Ohio\, Curator's Talk
DESCRIPTION:Decorative Arts Center of Ohio\, Curator's Talk on Sunday\, December 12 at 1:30 & 3:00 pm\n\n\n\nJoin Curator Dr. George Johnson for an\n\ninformal lecture on the history\, customs\,\n\nand traditions of the holidays from the\n\nVictorian era. Space Limited please call\n\n740-681-1423 or go to decartsohio.org.
X-ALT-DESC;FMTTYPE=text/html:<div style="text-align: center\;"><span style="font-size:16px\;"><strong>Decorative Arts Center of Ohio\, Curator&#39\;s Talk on Sunday\, December 12 at 1:30 &amp\; 3:00 pm</strong><br />\n<br />\nJoin Curator Dr. George Johnson for an<br />\ninformal lecture on the history\, customs\,<br />\nand traditions of the holidays from the<br />\nVictorian era. Space Limited&mdash\;please call<br />\n740-681-1423 or go to <a href="http://decartsohio.org">decartsohio.org</a>.</span></div>\n
LOCATION:The Decorative Arts Center of Ohio 145 E. Main St Lancaster\, OH 43130
UID:e.3121.732
SEQUENCE:3
DTSTAMP:20260420T022116Z
URL:https://business.lancoc.org/events/details/decorative-arts-center-of-ohio-curator-s-talk-732
END:VEVENT

END:VCALENDAR
