BEGIN:VCALENDAR
VERSION:2.0
PRODID:-//ChamberMaster//Event Calendar 2.0//EN
METHOD:PUBLISH
X-PUBLISHED-TTL:P3D
REFRESH-INTERVAL:P3D
CALSCALE:GREGORIAN
BEGIN:VEVENT
DTSTART;VALUE=DATE:20220102
DTEND;VALUE=DATE:20220103
TRANSP:TRANSPARENT
X-MICROSOFT-CDO-ALLDAYEVENT:TRUE
SUMMARY:Decorative Arts Center of Ohio\, 2021 Victorian Christmas Closing
DESCRIPTION:Join the Decorative Arts Center of Ohio for their Victorian Christmas Exhibit
X-ALT-DESC;FMTTYPE=text/html:<div style="text-align: center\;"><span style="font-size:16px\;"><strong>Join the Decorative Arts Center of Ohio for their Victorian Christmas Exhibit</strong></span></div>\n
LOCATION:The Decorative Arts Center of Ohio 145 E. Main St Lancaster\, OH 43130
UID:e.3121.733
SEQUENCE:3
DTSTAMP:20260420T022339Z
URL:https://business.lancoc.org/events/details/decorative-arts-center-of-ohio-2021-victorian-christmas-closing-733
END:VEVENT

END:VCALENDAR
