BEGIN:VCALENDAR
VERSION:2.0
PRODID:-//ChamberMaster//Event Calendar 2.0//EN
METHOD:PUBLISH
X-PUBLISHED-TTL:P3D
REFRESH-INTERVAL:P3D
CALSCALE:GREGORIAN
BEGIN:VEVENT
DTSTART:20200725T170000Z
DTEND:20200725T190000Z
X-MICROSOFT-CDO-ALLDAYEVENT:FALSE
SUMMARY:Cyanotype Workshop
DESCRIPTION:Cyanotype Workshop Saturday\, July 25 1:00-3:00 pm Ages 7-16 $35/$30 member Lisa Schorr\, Dallas Rienschield\, instructors Using organic materials and man-made objects\, striking blue prints will be made on treated paper using the power of the sun to create art.
X-ALT-DESC;FMTTYPE=text/html:Cyanotype Workshop Saturday\, July 25 1:00-3:00 pm Ages 7-16 $35/$30 member Lisa Schorr\, Dallas Rienschield\, instructors Using organic materials and man-made objects\, striking blue prints will be made on treated paper using the power of the sun to create art.
LOCATION:Wendel Center for Art Education at the Decorative Arts Center of Ohio 145 E Main St Lancaster\,Ohio 43130
UID:e.3121.460
SEQUENCE:3
DTSTAMP:20260423T104535Z
URL:https://business.lancoc.org/events/details/cyanotype-workshop-460
END:VEVENT

END:VCALENDAR
