BEGIN:VCALENDAR
VERSION:2.0
PRODID:-//ChamberMaster//Event Calendar 2.0//EN
METHOD:PUBLISH
X-PUBLISHED-TTL:P3D
REFRESH-INTERVAL:P3D
CALSCALE:GREGORIAN
BEGIN:VEVENT
DTSTART:20200719T180000Z
DTEND:20200719T190000Z
X-MICROSOFT-CDO-ALLDAYEVENT:FALSE
SUMMARY:Curators Talk with Dr. Christine Fowler Shearer
DESCRIPTION:Curator's Talk Sunday\, July 19\, 2:00 pm $8/$5 members prepaid registration\, $10 at the door Join Curator Dr. Christine Fowler Shearer as she shares insights into diptychs and triptychs and their representation in this exhibition by the selected 18 contemporary Ohio artists.
X-ALT-DESC;FMTTYPE=text/html:Curator&#39\;s Talk Sunday\, July 19\, 2:00 pm $8/$5 members prepaid registration\, $10 at the door Join Curator Dr. Christine Fowler Shearer as she shares insights into diptychs and triptychs and their representation in this exhibition by the selected 18 contemporary Ohio artists.
LOCATION:Decorative Arts Center of Ohio 145 E Main St Lancaster\, Ohio 43130
UID:e.3121.456
SEQUENCE:3
DTSTAMP:20260423T140832Z
URL:https://business.lancoc.org/events/details/curators-talk-with-dr-christine-fowler-shearer-456
END:VEVENT

END:VCALENDAR
