BEGIN:VCALENDAR
VERSION:2.0
PRODID:-//ChamberMaster//Event Calendar 2.0//EN
METHOD:PUBLISH
X-PUBLISHED-TTL:P3D
REFRESH-INTERVAL:P3D
CALSCALE:GREGORIAN
BEGIN:VEVENT
DTSTART:20190922T180000Z
DTEND:20190922T190000Z
X-MICROSOFT-CDO-ALLDAYEVENT:FALSE
SUMMARY:Curators Talk
DESCRIPTION:Join Curator Christine Fowler Shearer as she shares insights into the lives of the Ohio Presidents and the objects that tell their stories.
X-ALT-DESC;FMTTYPE=text/html:Join Curator Christine Fowler Shearer as she shares insights into the lives of the Ohio Presidents and the objects that tell their stories.
LOCATION:Decorative Arts Center of Ohio 145 E Main St Lancaster\, Ohio 43130
UID:e.3121.336
SEQUENCE:3
DTSTAMP:20260424T063534Z
URL:https://business.lancoc.org/events/details/curators-talk-336
END:VEVENT

END:VCALENDAR
