BEGIN:VCALENDAR
VERSION:2.0
PRODID:-//ChamberMaster//Event Calendar 2.0//EN
METHOD:PUBLISH
X-PUBLISHED-TTL:P3D
REFRESH-INTERVAL:P3D
CALSCALE:GREGORIAN
BEGIN:VEVENT
DTSTART:20200126T190000Z
DTEND:20200126T200000Z
X-MICROSOFT-CDO-ALLDAYEVENT:FALSE
SUMMARY:Curators Talk
DESCRIPTION:Join Curator Caitlin McGurk as she shares insights into the work of Barbara Shermund.
X-ALT-DESC;FMTTYPE=text/html:Join Curator Caitlin McGurk as she shares insights into the work of Barbara Shermund.
LOCATION:Decorative Arts Center of Ohio 145 E Main Street Lancaster\, Ohio 43130
UID:e.3121.394
SEQUENCE:3
DTSTAMP:20260423T225556Z
URL:https://business.lancoc.org/events/details/curators-talk-01-26-2020-394
END:VEVENT

END:VCALENDAR
