BEGIN:VCALENDAR
VERSION:2.0
PRODID:-//ChamberMaster//Event Calendar 2.0//EN
METHOD:PUBLISH
X-PUBLISHED-TTL:P3D
REFRESH-INTERVAL:P3D
CALSCALE:GREGORIAN
BEGIN:VEVENT
DTSTART:20201122T190000Z
DTEND:20201122T200000Z
X-MICROSOFT-CDO-ALLDAYEVENT:FALSE
SUMMARY:Curator's Talk
DESCRIPTION:Join Curator Michael Reese as he talks about his collection and Russian Decorative Arts from the Tsars to the USSR
X-ALT-DESC;FMTTYPE=text/html:Join Curator Michael Reese as he talks about his collection and Russian Decorative Arts from the Tsars to the USSR
LOCATION:First United Methodist Church 163 E Wheeling St Lancaster\, Ohio 43130
UID:e.3121.475
SEQUENCE:3
DTSTAMP:20260423T054206Z
URL:https://business.lancoc.org/events/details/curator-s-talk-11-22-2020-475
END:VEVENT

END:VCALENDAR
