BEGIN:VCALENDAR
VERSION:2.0
PRODID:-//ChamberMaster//Event Calendar 2.0//EN
METHOD:PUBLISH
X-PUBLISHED-TTL:P3D
REFRESH-INTERVAL:P3D
CALSCALE:GREGORIAN
BEGIN:VEVENT
DTSTART:20200419T173000Z
DTEND:20200419T193000Z
X-MICROSOFT-CDO-ALLDAYEVENT:FALSE
SUMMARY:Creating Comic Books
DESCRIPTION:From Marvel Studios to manga\, comics have created the perfect harmony between art and storytelling. Impactful visuals become a recognizable medium on both paper and film. Grab your pencils and your imagination as we create our own comics. You will develop your own 3-5 page comic\, learning the history and importance of visual storytelling. This is a five week course on Sundays\, March 15\, 22\, 29\, April 5\,19
X-ALT-DESC;FMTTYPE=text/html:From Marvel Studios to manga\, comics have created the perfect harmony between art and storytelling. Impactful visuals become a recognizable medium on both paper and film. Grab your pencils and your imagination as we create our own comics. You will develop your own 3-5 page comic\, learning the history and importance of visual storytelling. This is a five week course on Sundays\, March 15\, 22\, 29\, April 5\,19
LOCATION:Wendel Center for Art Education 145 E Main Street Lancaster\, Ohio 43130
UID:e.3121.404
SEQUENCE:3
DTSTAMP:20260423T172602Z
URL:https://business.lancoc.org/events/details/creating-comic-books-04-19-2020-404
END:VEVENT

END:VCALENDAR
