BEGIN:VCALENDAR
VERSION:2.0
PRODID:-//ChamberMaster//Event Calendar 2.0//EN
METHOD:PUBLISH
X-PUBLISHED-TTL:P3D
REFRESH-INTERVAL:P3D
CALSCALE:GREGORIAN
BEGIN:VEVENT
DTSTART:20210820T200000Z
DTEND:20210820T230000Z
X-MICROSOFT-CDO-ALLDAYEVENT:FALSE
SUMMARY:Country Lane Gardens Ice Cream Social
DESCRIPTION:Back to School Fun! \n\n\n\nCountry Lane invites you to our Ice Cream Social.\n\n\n\nPlease feel free to by this free event. Ice cream is from Weldons at Buckeye Lake\n\n\n\nBack to school goody bags while supplies last
X-ALT-DESC;FMTTYPE=text/html:Back to School Fun!&nbsp\;<br />\n<br />\nCountry Lane invites you to our Ice Cream Social.<br />\n<br />\nPlease feel free to by this free event. Ice cream is from Weldons at Buckeye Lake<br />\n<br />\nBack to school goody bags while supplies last
LOCATION:Country Lane Gardens 7820 Pleasantville Rd Thornville\, OH 43076
UID:e.3121.629
SEQUENCE:3
DTSTAMP:20260422T091737Z
URL:https://business.lancoc.org/events/details/country-lane-gardens-ice-cream-social-629
END:VEVENT

END:VCALENDAR
