BEGIN:VCALENDAR
VERSION:2.0
PRODID:-//ChamberMaster//Event Calendar 2.0//EN
METHOD:PUBLISH
X-PUBLISHED-TTL:P3D
REFRESH-INTERVAL:P3D
CALSCALE:GREGORIAN
BEGIN:VEVENT
DTSTART:20210424T140000Z
DTEND:20210424T180000Z
X-MICROSOFT-CDO-ALLDAYEVENT:FALSE
SUMMARY:Community Disposal Day & Drug Drop Off at Ohio University Lancaster
DESCRIPTION:Bring your confidential documents to be shredded (2 box limit her vehicle) \n	Prescription Pills and capsules are the only type of medication accepted\n	Batteries will also be collected
X-ALT-DESC;FMTTYPE=text/html:<ul>\n	<li>Bring your confidential documents to be shredded (2 box limit her vehicle)&nbsp\;</li>\n	<li>Prescription Pills and capsules are the only type of medication accepted</li>\n	<li>Batteries will also be collected</li>\n</ul>\n
LOCATION:Ohio University Lancaster North Parking Lot 1570 Granville Pike\, Lancaster\, OH 43130
UID:e.3121.572
SEQUENCE:3
DTSTAMP:20260422T164359Z
URL:https://business.lancoc.org/events/details/community-disposal-day-drug-drop-off-at-ohio-university-lancaster-572
END:VEVENT

END:VCALENDAR
