BEGIN:VCALENDAR
VERSION:2.0
PRODID:-//ChamberMaster//Event Calendar 2.0//EN
METHOD:PUBLISH
X-PUBLISHED-TTL:P3D
REFRESH-INTERVAL:P3D
CALSCALE:GREGORIAN
BEGIN:VEVENT
DTSTART:20210501T140000Z
DTEND:20210501T200000Z
X-MICROSOFT-CDO-ALLDAYEVENT:FALSE
SUMMARY:Coldwell Banker Diaper Dump For Bottoms Up's World's Largest Diaper Drive
DESCRIPTION:Come and Donate Diapers to help Coldwell Baker and Bottom's Up Diaper Drive reach their goal of collecting 250\,000 diapers in one day!
X-ALT-DESC;FMTTYPE=text/html:Come and Donate Diapers to help Coldwell Baker and Bottom&#39\;s Up Diaper Drive reach their goal of collecting 250\,000 diapers in one day!
LOCATION:Southeast Regional Office 176 Clint Drive Pickerington\, OH 43147
UID:e.3121.569
SEQUENCE:3
DTSTAMP:20260422T163549Z
URL:https://business.lancoc.org/events/details/coldwell-banker-diaper-dump-for-bottoms-up-s-world-s-largest-diaper-drive-569
END:VEVENT

END:VCALENDAR
