BEGIN:VCALENDAR
VERSION:2.0
PRODID:-//ChamberMaster//Event Calendar 2.0//EN
METHOD:PUBLISH
X-PUBLISHED-TTL:P3D
REFRESH-INTERVAL:P3D
CALSCALE:GREGORIAN
BEGIN:VEVENT
DTSTART:20210512T113000Z
DTEND:20210512T130000Z
X-MICROSOFT-CDO-ALLDAYEVENT:FALSE
SUMMARY:Coffee and Cashflow: FIVE KEYS TO UNLOCKING THE CASH IN YOUR BUSINESS
DESCRIPTION:Successful businesses oftentimes rely on two things: coffee and cashflow. And if you want to unlock the cash in your business\, save May 12 on your calendar. Back by popular demand\, we are launching our free seminars once again!\n\nI'll be breaking down the FIVE KEYS TO UNLOCKING THE CASH IN YOUR BUSINESS. This event is LIVE and FREE. And I personally guarantee you'll take away some amazing strategies that you can immediately apply to your business.\n\nYou'll be pleasantly surprised when you see how easy it is to master the numbers that impact your cash flow   and you'll be more than happy with your ultimate results. This event will equip you with the tools and systems ActionCOACH uses to improve the balance sheets of thousands of businesses.\n\nAs things finally start to open up\, are you ready to take your business to the next level?\n\n\n\nRegister Here!
X-ALT-DESC;FMTTYPE=text/html:<p>Successful businesses oftentimes rely on two things: coffee and cashflow. And if you want to unlock the cash in your business\, <strong>save May 12 on your calendar. </strong>Back by popular demand\, we are launching our free seminars once again!</p>\n\n<p>I&#39\;ll be breaking down the <strong><a class="bard-text-block style-scope" href="https://bf100.keap-link001.com/api/v1/click/5817743463284736/6102698692313088" style="color: rgb(6\, 69\, 173)\; padding: 0px\; line-height: 1.6\;" target="_blank" title="https://bf100.keap-link001.com/api/v1/click/5817743463284736/6102698692313088">FIVE KEYS TO UNLOCKING THE CASH IN YOUR BUSINESS</a>. </strong>This event is <strong>LIVE</strong> and <strong>FREE.</strong> And I personally guarantee you&#39\;ll take away some amazing strategies that you can immediately apply to your business.</p>\n\n<p>You&rsquo\;ll be pleasantly surprised when you see how easy it is to <strong>master the numbers</strong> that impact your cash flow &ndash\; and you&rsquo\;ll be more than happy with your ultimate results. This event will equip you with the tools and systems ActionCOACH uses to improve the balance sheets of thousands of businesses.</p>\n\n<p><strong>As things finally start to open up\, are you ready to take your business to the next level?<br />\n<br />\n<a href="http://bf100.keap-link001.com/api/v1/click/5817743463284736/6102698692313088">Register Here!</a></strong></p>\n
LOCATION:Buji ActionCOACH 8233 Howe Industrial Pkwy Canal Winchester\, OH 43110
UID:e.3121.574
SEQUENCE:3
DTSTAMP:20260422T145739Z
URL:https://business.lancoc.org/events/details/coffee-and-cashflow-five-keys-to-unlocking-the-cash-in-your-business-574
END:VEVENT

END:VCALENDAR
