BEGIN:VCALENDAR
VERSION:2.0
PRODID:-//ChamberMaster//Event Calendar 2.0//EN
METHOD:PUBLISH
X-PUBLISHED-TTL:P3D
REFRESH-INTERVAL:P3D
CALSCALE:GREGORIAN
BEGIN:VEVENT
DTSTART:20220120T000000Z
DTEND:20220120T020000Z
X-MICROSOFT-CDO-ALLDAYEVENT:FALSE
SUMMARY:Civil War Roundtable: Lincoln Funeral Train
DESCRIPTION:The Sherman Civil War Roundtable returns Jan. 19 as railroad historian Jim Kehn presents "The Lincoln Funeral Train." Jim's annual talk on railroads is always a popular meeting\, and that's why we'll be at Fairfield Community Church\, 860 E. Mulberry St. It gives us more space and more parking. Anyone can come. Just $5 admission. No reservations required.
X-ALT-DESC;FMTTYPE=text/html:The Sherman Civil War Roundtable returns Jan. 19 as railroad historian Jim Kehn presents &quot\;The Lincoln Funeral Train.&quot\; Jim&#39\;s annual talk on railroads is always a popular meeting\, and that&#39\;s why we&#39\;ll be at Fairfield Community Church\, 860 E. Mulberry St. It gives us more space and more parking. Anyone can come. Just $5 admission. No reservations required.
LOCATION:Fairfield Community Church\, 860 E. Mulberry St. Lancaster\, Ohio
UID:e.3121.755
SEQUENCE:3
DTSTAMP:20260420T002256Z
URL:https://business.lancoc.org/events/details/civil-war-roundtable-lincoln-funeral-train-755
END:VEVENT

END:VCALENDAR
