BEGIN:VCALENDAR
VERSION:2.0
PRODID:-//ChamberMaster//Event Calendar 2.0//EN
METHOD:PUBLISH
X-PUBLISHED-TTL:P3D
REFRESH-INTERVAL:P3D
CALSCALE:GREGORIAN
BEGIN:VEVENT
DTSTART:20211205T200000Z
DTEND:20211205T213000Z
X-MICROSOFT-CDO-ALLDAYEVENT:FALSE
SUMMARY:Christmas Tea at the Georgian Museum
DESCRIPTION:Celebrate the season with a three-course tea in the 19th century elegance of the Georgian Museum. Tickets are $35. Reservations required. Call 740-654-9923 to order. This event always sells out\, so buy your tickets now.
X-ALT-DESC;FMTTYPE=text/html:Celebrate the season with a three-course tea in the 19th century elegance of the Georgian Museum. Tickets are $35. Reservations required. Call 740-654-9923 to order. This event always sells out\, so buy your tickets now.
LOCATION:Georgian Museum\, 105 E. Wheeling St.\, Lancaster\, Ohio
UID:e.3121.735
SEQUENCE:3
DTSTAMP:20260420T022043Z
URL:https://business.lancoc.org/events/details/christmas-tea-at-the-georgian-museum-735
END:VEVENT

END:VCALENDAR
