BEGIN:VCALENDAR
VERSION:2.0
PRODID:-//ChamberMaster//Event Calendar 2.0//EN
METHOD:PUBLISH
X-PUBLISHED-TTL:P3D
REFRESH-INTERVAL:P3D
CALSCALE:GREGORIAN
BEGIN:VEVENT
DTSTART:20201213T190000Z
DTEND:20201213T200000Z
X-MICROSOFT-CDO-ALLDAYEVENT:FALSE
SUMMARY:Christmas Curator Talk
DESCRIPTION:Join Curator Dr. George Johnson as he shares his personal insights on A Russian Christmas.
X-ALT-DESC;FMTTYPE=text/html:Join Curator Dr. George Johnson as he shares his personal insights on A Russian Christmas.
LOCATION:First United Methodist Church 163 E Wheeling St Lancaster\, Ohio 43130
UID:e.3121.477
SEQUENCE:3
DTSTAMP:20260423T035654Z
URL:https://business.lancoc.org/events/details/christmas-curator-talk-477
END:VEVENT

END:VCALENDAR
