BEGIN:VCALENDAR
VERSION:2.0
PRODID:-//ChamberMaster//Event Calendar 2.0//EN
METHOD:PUBLISH
X-PUBLISHED-TTL:P3D
REFRESH-INTERVAL:P3D
CALSCALE:GREGORIAN
BEGIN:VEVENT
DTSTART:20191214T230000Z
DTEND:20191215T023000Z
X-MICROSOFT-CDO-ALLDAYEVENT:FALSE
SUMMARY:Christmas Candlelight Tour
DESCRIPTION:Be part of a Lancaster tradition and join us for the 41st annual Candlelight Tour\, presented by the Fairfield County Heritage Association. The theme is "Behold His Birth." Guides lead guests down candlelit paths to seven historic churches in Downtown Lancaster. Each church will present its own holiday music program\, and variety of musical styles will be performed over the evening\n\nHOW IT WORKS: The evening begins at 6 pm with simultaneous performances at First Presbyterian Church and First United Methodist Church. For the second performance\, the audiences switch churches. And then attendees are divided into four groups to visit these churches:   St. John's Episcopal Church.   Emanuel Lutheran Church.   St. Peter's Lutheran Church.   First English Lutheran Church. All the groups meet up at St. Mary of the Assumption Catholic Church for the grand finale.
X-ALT-DESC;FMTTYPE=text/html:Be part of a Lancaster tradition and join us for the 41st annual Candlelight Tour\, presented by the Fairfield County Heritage Association. The theme is &ldquo\;Behold His Birth.&rdquo\; Guides lead guests down candlelit paths to seven historic churches in Downtown Lancaster. Each church will present its own holiday music program\, and variety of musical styles will be performed over the evening<br />\n<strong>HOW IT WORKS:</strong> The evening begins at 6 pm with simultaneous performances at First Presbyterian Church and First United Methodist Church. For the second performance\, the audiences switch churches. And then attendees are divided into four groups to visit these churches: &bull\; St. John&rsquo\;s Episcopal Church. &bull\; Emanuel Lutheran Church. &bull\; St. Peter&rsquo\;s Lutheran Church. &bull\; First English Lutheran Church. All the groups meet up at St. Mary of the Assumption Catholic Church for the grand finale.
LOCATION:Downtown Lancaster\, Ohio
UID:e.3121.387
SEQUENCE:3
DTSTAMP:20260424T004134Z
URL:https://business.lancoc.org/events/details/christmas-candlelight-tour-387
END:VEVENT

END:VCALENDAR
