BEGIN:VCALENDAR
VERSION:2.0
PRODID:-//ChamberMaster//Event Calendar 2.0//EN
METHOD:PUBLISH
X-PUBLISHED-TTL:P3D
REFRESH-INTERVAL:P3D
CALSCALE:GREGORIAN
BEGIN:VEVENT
DTSTART:20210713T173000Z
DTEND:20210713T183000Z
X-MICROSOFT-CDO-ALLDAYEVENT:FALSE
SUMMARY:Charter Communications/Spectrum's Special Event Celebrating Rural Broadband Expansion
DESCRIPTION:Charter Communications will be holding a special event celebrating rural broadband expansion of Spectrum services in Fairfield and Pickaway Counties.  1:30 pm   2:30 pm at Crosstown Creamery\, 90 Main Street in downtown Tarlton.  For more information or to RSVP\, contact Spectrum at Margaret.Bailey-Stewart@charter.com or 414.277.4087
X-ALT-DESC;FMTTYPE=text/html:<span style="font-family: Calibri\, sans-serif\, serif\, EmojiFont\; font-size: 15px\; background-color: rgb(255\, 255\, 255)\;">Charter Communications will be holding a special event celebrating rural broadband expansion of Spectrum services in Fairfield and Pickaway Counties.&nbsp\; 1:30 pm &ndash\; 2:30 pm at Crosstown Creamery\, 90 Main Street in downtown Tarlton.&nbsp\; For more information or to RSVP\, contact Spectrum at&nbsp\;</span><a data-auth="NotApplicable" data-linkindex="1" href="mailto:Margaret.Bailey-Stewart@charter.com" rel="noopener noreferrer" style="margin: 0px\; padding: 0px\; border: 0px\; font-variant-numeric: inherit\; font-variant-east-asian: inherit\; font-stretch: inherit\; font-size: 15px\; line-height: inherit\; font-family: Calibri\, sans-serif\, serif\, EmojiFont\; vertical-align: baseline\; background-color: rgb(255\, 255\, 255)\;" target="_blank">Margaret.Bailey-Stewart@charter.com</a><span style="font-family: Calibri\, sans-serif\, serif\, EmojiFont\; font-size: 15px\; background-color: rgb(255\, 255\, 255)\;">&nbsp\;or 414.277.4087</span>
LOCATION:Crosstown Creamery\, 90 Main Street in downtown Tarlton
UID:e.3121.620
SEQUENCE:3
DTSTAMP:20260422T110411Z
URL:https://business.lancoc.org/events/details/charter-communications-spectrum-s-special-event-celebrating-rural-broadband-expansion-620
END:VEVENT

END:VCALENDAR
