BEGIN:VCALENDAR
VERSION:2.0
PRODID:-//ChamberMaster//Event Calendar 2.0//EN
METHOD:PUBLISH
X-PUBLISHED-TTL:P3D
REFRESH-INTERVAL:P3D
CALSCALE:GREGORIAN
BEGIN:VEVENT
DTSTART:20220608T130000Z
DTEND:20220608T143000Z
X-MICROSOFT-CDO-ALLDAYEVENT:FALSE
SUMMARY:Chamber Connect: Get to Know Our New Chamber Members-Wednesday\, June 8\, 2022
DESCRIPTION:Chamber Connect: Get to Know Our New Chamber Members\n\nJoin us as we introduce you to some of our newest members and learn about their businesses.\n\nThank you to Dagger Law for sponsoring this event.\n\n\n\nNew Chamber Members participating include: \n\nFocus Realty & Management\n\nJoe's Drain Cleaning\n\nLithopolis Honeyfest\n\nMammoth Restoration\n\nNothing Bundt Cakes\n\nRaising The Next Gen\n\nRise Up Arts Alliance\n\nSeniors Helping Seniors\n\nSheri Smith-Dream Vacations
X-ALT-DESC;FMTTYPE=text/html:<p><strong style="color: rgb(51\, 51\, 51)\; font-family: sans-serif\, Arial\, Verdana\, &quot\;Trebuchet MS&quot\;\; font-size: 18px\; background-color: rgb(255\, 255\, 255)\;">Chamber Connect: Get to Know Our New Chamber Members</strong><br />\n<span style="font-size:16px\;">Join us as we introduce you to some of our newest members and learn about their businesses.</span><br />\n<span style="color: rgb(51\, 51\, 51)\; font-family: sans-serif\, Arial\, Verdana\, &quot\;Trebuchet MS&quot\;\; font-size: 16px\; background-color: rgb(255\, 255\, 255)\;">Thank you to</span><b style="color: rgb(51\, 51\, 51)\; font-family: sans-serif\, Arial\, Verdana\, &quot\;Trebuchet MS&quot\;\; font-size: 16px\; background-color: rgb(255\, 255\, 255)\;">&nbsp\;Dagger Law&nbsp\;</b><span style="color: rgb(51\, 51\, 51)\; font-family: sans-serif\, Arial\, Verdana\, &quot\;Trebuchet MS&quot\;\; font-size: 16px\; background-color: rgb(255\, 255\, 255)\;">for sponsoring this event<i>.</i></span><br />\n<br />\n<span style="color: rgb(51\, 51\, 51)\; font-family: sans-serif\, Arial\, Verdana\, &quot\;Trebuchet MS&quot\;\; font-size: 16px\;"><strong>New Chamber Members participating include:</strong>&nbsp\;</span><br />\n<span style="color: rgb(0\, 0\, 255)\; font-family: sans-serif\, Arial\, Verdana\, &quot\;Trebuchet MS&quot\;\; font-size: 16px\; background-color: rgb(255\, 255\, 255)\;">Focus Realty &amp\; Management</span><br />\n<span style="color:#0000FF\;"><span style="font-family: sans-serif\, Arial\, Verdana\, &quot\;Trebuchet MS&quot\;\; font-size: 16px\;">Joe&#39\;s Drain Cleaning</span></span><br />\n<span style="color: rgb(0\, 0\, 255)\; font-family: sans-serif\, Arial\, Verdana\, &quot\;Trebuchet MS&quot\;\; font-size: 16px\; background-color: rgb(255\, 255\, 255)\;">Lithopolis Honeyfest</span><br />\n<span style="color:#0000FF\;"><span style="font-family: sans-serif\, Arial\, Verdana\, &quot\;Trebuchet MS&quot\;\; font-size: 16px\;">Mammoth Restoration<br />\nNothing Bundt Cakes</span></span><br />\n<span style="color: rgb(0\, 0\, 255)\; font-family: sans-serif\, Arial\, Verdana\, &quot\;Trebuchet MS&quot\;\; font-size: 16px\; background-color: rgb(255\, 255\, 255)\;">Raising The Next Gen<br />\nRise Up Arts Alliance</span><br />\n<span style="color: rgb(0\, 0\, 255)\; font-family: sans-serif\, Arial\, Verdana\, &quot\;Trebuchet MS&quot\;\; font-size: 16px\; background-color: rgb(255\, 255\, 255)\;">Seniors Helping Seniors</span><br />\n<span style="color:#0000FF\;"><span style="font-family: sans-serif\, Arial\, Verdana\, &quot\;Trebuchet MS&quot\;\; font-size: 16px\;">Sheri Smith-Dream Vacations</span></span><br />\n<br />\n&nbsp\;</p>\n
LOCATION:Fairfield County Records Center 138 W. Chestnut Street Lancaster\, Ohio 43130
UID:e.3121.783
SEQUENCE:3
DTSTAMP:20260419T151544Z
URL:https://business.lancoc.org/events/details/chamber-connect-get-to-know-our-new-chamber-members-wednesday-june-8-2022-783
END:VEVENT

END:VCALENDAR
