BEGIN:VCALENDAR
VERSION:2.0
PRODID:-//ChamberMaster//Event Calendar 2.0//EN
METHOD:PUBLISH
X-PUBLISHED-TTL:P3D
REFRESH-INTERVAL:P3D
CALSCALE:GREGORIAN
BEGIN:VEVENT
DTSTART:20210714T130000Z
DTEND:20210714T140000Z
X-MICROSOFT-CDO-ALLDAYEVENT:FALSE
SUMMARY:Chamber Connect: Get to Know Our New Chamber Members-Wednesday\, July 14\, 2021
DESCRIPTION:Chamber Connect: Get to Know Our New Chamber Members\n\nJoin us as we introduce you to some of our newest members and learn about their businesses.\n\n\n\nThis event is for Chamber Members only.\n\n\n\nThank you to Fairfield Federal Savings & Loan for sponsoring this event \n\n\n\nNew Chamber Members participating include: \n\n	The Byron Saunders Foundation-Fairfield County\n	J & A Digital Solutions\, LLC\n	T-Mobile For Business\n	90.9 The River\n	Connexion West
X-ALT-DESC;FMTTYPE=text/html:<span style="font-size:16px\;"><strong>Chamber Connect: Get to Know Our New Chamber Members</strong></span><br />\n<span style="font-size:14px\;">Join us as we introduce you to some of our newest members and learn about their businesses.<br />\n<br />\n<em>This event is for Chamber Members only.</em><br />\n<br />\n<span style="font-size:16px\;">Thank you to <strong><a href="https://www.fairfieldfederal.com/">Fairfield Federal Savings &amp\; Loan</a> </strong>for sponsoring this event<em>&nbsp\;</em></span></span><br />\n<br />\n<strong>New Chamber Members participating include:</strong>&nbsp\;\n<ul>\n	<li><span style="color:#FF0000\;">The Byron Saunders Foundation-Fairfield County</span></li>\n	<li><span style="color:#FF0000\;">J &amp\; A Digital Solutions\, LLC</span></li>\n	<li><span style="color:#FF0000\;">T-Mobile For Business</span></li>\n	<li><span style="color:#FF0000\;">90.9 The River</span></li>\n	<li><span style="color:#FF0000\;">Connexion West</span></li>\n</ul>\n
LOCATION:Lancaster-Fairfield County Chamber of Commerce 109 N. Broad Street Suite 100 Lancaster\, Ohio 43130
UID:e.3121.618
SEQUENCE:3
DTSTAMP:20260422T111713Z
URL:https://business.lancoc.org/events/details/chamber-connect-get-to-know-our-new-chamber-members-wednesday-july-14-2021-618
END:VEVENT

END:VCALENDAR
