BEGIN:VCALENDAR
VERSION:2.0
PRODID:-//ChamberMaster//Event Calendar 2.0//EN
METHOD:PUBLISH
X-PUBLISHED-TTL:P3D
REFRESH-INTERVAL:P3D
CALSCALE:GREGORIAN
BEGIN:VEVENT
DTSTART:20220713T130000Z
DTEND:20220713T143000Z
X-MICROSOFT-CDO-ALLDAYEVENT:FALSE
SUMMARY:Chamber Connect: Get to Know Our New Chamber Members-Wednesday\, July 13\, 2022
DESCRIPTION:Chamber Connect: Get to Know Our New Chamber Members\n\nJoin us as we introduce you to some of our newest members and learn about their businesses.\n\nThank you to Coughlin Kia of Lancaster for sponsoring this event.\n\n\n\nNew Chamber Members participating include: \n\nDown Home With Tina\n\nEnergility\n\nFoltz Ag Enterprises\n\nH2Pro Restoration\n\nHuntington Bank\n\nOn The Go Support Services\n\nRaising The Next Gen\n\nToys For Tots Fairfield County
X-ALT-DESC;FMTTYPE=text/html:<p><strong style="color: rgb(51\, 51\, 51)\; font-family: sans-serif\, Arial\, Verdana\, &quot\;Trebuchet MS&quot\;\; font-size: 18px\; background-color: rgb(255\, 255\, 255)\;">Chamber Connect: Get to Know Our New Chamber Members</strong><br />\n<span style="font-size:16px\;">Join us as we introduce you to some of our newest members and learn about their businesses.</span><br />\n<span style="color: rgb(51\, 51\, 51)\; font-family: sans-serif\, Arial\, Verdana\, &quot\;Trebuchet MS&quot\;\; font-size: 16px\; background-color: rgb(255\, 255\, 255)\;">Thank you to</span><b style="color: rgb(51\, 51\, 51)\; font-family: sans-serif\, Arial\, Verdana\, &quot\;Trebuchet MS&quot\;\; font-size: 16px\; background-color: rgb(255\, 255\, 255)\;">&nbsp\;Coughlin Kia of Lancaster&nbsp\;</b><span style="color: rgb(51\, 51\, 51)\; font-family: sans-serif\, Arial\, Verdana\, &quot\;Trebuchet MS&quot\;\; font-size: 16px\; background-color: rgb(255\, 255\, 255)\;">for sponsoring this event<i>.</i></span><br />\n<br />\n<span style="color: rgb(51\, 51\, 51)\; font-family: sans-serif\, Arial\, Verdana\, &quot\;Trebuchet MS&quot\;\; font-size: 16px\;"><strong>New Chamber Members participating include:</strong>&nbsp\;</span><br />\nDown Home With Tina<br />\nEnergility<br />\nFoltz Ag Enterprises<br />\nH2Pro Restoration<br />\nHuntington Bank<br />\nOn The Go Support Services<br />\nRaising The Next Gen<br />\nToys For Tots Fairfield County</p>\n
LOCATION:Fairfield County Records Center 138 W. Chestnut Street Lancaster\, Ohio 43130
UID:e.3121.793
SEQUENCE:3
DTSTAMP:20260419T133341Z
URL:https://business.lancoc.org/events/details/chamber-connect-get-to-know-our-new-chamber-members-wednesday-july-13-2022-793
END:VEVENT

END:VCALENDAR
