BEGIN:VCALENDAR
VERSION:2.0
PRODID:-//ChamberMaster//Event Calendar 2.0//EN
METHOD:PUBLISH
X-PUBLISHED-TTL:P3D
REFRESH-INTERVAL:P3D
CALSCALE:GREGORIAN
BEGIN:VEVENT
DTSTART:20220126T140000Z
DTEND:20220126T153000Z
X-MICROSOFT-CDO-ALLDAYEVENT:FALSE
SUMMARY:Chamber Connect: Get to Know Our New Chamber Members-Wednesday\, January 26\, 2022
DESCRIPTION:Chamber Connect: Get to Know Our New Chamber Members\n\nJoin us as we introduce you to some of our newest members and learn about their businesses.\n\n\n\nThis event is for Chamber Members only.\n\n\n\nThank you to Gorsuch Community of Companies for sponsoring this event \n\n\n\nNew Chamber Members participating include: \n\nChiyoda Integre of America\n\nFranklin Heating\, Cooling & Refrigeration\n\nMcGloin Trucking\n\nPath Behavioral Health\n\nPearl Aesthetics and Wellness\n\nThe Elements of Healing\n\nThe Milby Group\n\nU.S Army Recruiting Station
X-ALT-DESC;FMTTYPE=text/html:<span style="font-size:18px\;"><strong>Chamber Connect: Get to Know Our New Chamber Members</strong></span><br />\n<span style="font-size:16px\;">Join us as we introduce you to some of our newest members and learn about their businesses.<br />\n<br />\n<em>This event is for Chamber Members only.</em><br />\n<br />\nThank you to<b>&nbsp\;<span style="color:#008000\;">Gorsuch Community of Companies&nbsp\;</span></b>for sponsoring this event<em>&nbsp\;</em><br />\n<br />\n<strong>New Chamber Members participating include:</strong>&nbsp\;</span><br />\n<strong><span style="font-size:14px\;"><span style="color: rgb(0\, 0\, 205)\; font-family: sans-serif\, Arial\, Verdana\, &quot\;Trebuchet MS&quot\;\; background-color: rgb(255\, 255\, 255)\;">Chiyoda Integre of America<br />\nFranklin Heating\, Cooling &amp\; Refrigeration<br />\nMcGloin Trucking</span><br />\n<span style="color: rgb(0\, 0\, 205)\; font-family: sans-serif\, Arial\, Verdana\, &quot\;Trebuchet MS&quot\;\; background-color: rgb(255\, 255\, 255)\;">Path Behavioral Health<br />\nPearl Aesthetics and Wellness<br />\nThe Elements of Healing<br />\nThe Milby Group</span><br />\n<span style="color:#0000CD\;">U.S Army Recruiting Station</span></span></strong><br />\n&nbsp\;
LOCATION:Fairfield County Records Center 138 W. Chestnut Street Lancaster\, Ohio 43130
UID:e.3121.752
SEQUENCE:3
DTSTAMP:20260420T001931Z
URL:https://business.lancoc.org/events/details/chamber-connect-get-to-know-our-new-chamber-members-wednesday-january-26-2022-752
END:VEVENT

END:VCALENDAR
