BEGIN:VCALENDAR
VERSION:2.0
PRODID:-//ChamberMaster//Event Calendar 2.0//EN
METHOD:PUBLISH
X-PUBLISHED-TTL:P3D
REFRESH-INTERVAL:P3D
CALSCALE:GREGORIAN
BEGIN:VEVENT
DTSTART:20211201T140000Z
DTEND:20211201T150000Z
X-MICROSOFT-CDO-ALLDAYEVENT:FALSE
SUMMARY:Chamber Connect: Get to Know Our New Chamber Members-Wednesday\, December 1\, 2021
DESCRIPTION:Chamber Connect: Get to Know Our New Chamber Members\n\nJoin us as we introduce you to some of our newest members and learn about their businesses.\n\n\n\nThis event is for Chamber Members only.\n\n\n\nThank you to Coughlin KIA of Lancaster for sponsoring this event \n\n\n\nNew Chamber Members participating include: \n\nCountry Lane Gardens\n\nCulligan of Central Ohio\n\nDirect Auto Insurance\n\nJoni and Friends\n\nKeller Williams Greater Columbus Realty\n\nRejuvenation Station\n\nThe Lighthouse
X-ALT-DESC;FMTTYPE=text/html:<span style="font-size:18px\;"><strong>Chamber Connect: Get to Know Our New Chamber Members</strong></span><br />\n<span style="font-size:16px\;">Join us as we introduce you to some of our newest members and learn about their businesses.<br />\n<br />\n<em>This event is for Chamber Members only.</em><br />\n<br />\nThank you to<b>&nbsp\;Coughlin KIA of Lancaster&nbsp\;</b>for sponsoring this event<em>&nbsp\;</em><br />\n<br />\n<strong>New Chamber Members participating include:</strong>&nbsp\;<br />\n<span style="color:#0000CD\;">Country Lane Gardens</span></span><br />\n<span style="color: rgb(0\, 0\, 205)\; font-family: sans-serif\, Arial\, Verdana\, &quot\;Trebuchet MS&quot\;\; font-size: 16px\; background-color: rgb(255\, 255\, 255)\;">Culligan of Central Ohio<br />\nDirect Auto Insurance<br />\nJoni and Friends</span><br />\n<span style="font-size:16px\;"><span style="color:#0000CD\;">Keller Williams Greater Columbus Realty<br />\nRejuvenation Station<br />\nThe Lighthouse</span></span><br />\n<br />\n<br />\n<br />\n&nbsp\;
LOCATION:Fairfield County Records Center 138 W. Chestnut Street Lancaster\, Ohio 43130
UID:e.3121.726
SEQUENCE:3
DTSTAMP:20260420T022339Z
URL:https://business.lancoc.org/events/details/chamber-connect-get-to-know-our-new-chamber-members-wednesday-december-1-2021-726
END:VEVENT

END:VCALENDAR
