BEGIN:VCALENDAR
VERSION:2.0
PRODID:-//ChamberMaster//Event Calendar 2.0//EN
METHOD:PUBLISH
X-PUBLISHED-TTL:P3D
REFRESH-INTERVAL:P3D
CALSCALE:GREGORIAN
BEGIN:VEVENT
DTSTART:20211102T130000Z
DTEND:20211102T143000Z
X-MICROSOFT-CDO-ALLDAYEVENT:FALSE
SUMMARY:Chamber Connect: Get to Know Our New Chamber Members-Tuesday\, November 2\, 2021
DESCRIPTION:Chamber Connect: Get to Know Our New Chamber Members\n\nJoin us as we introduce you to some of our newest members and learn about their businesses.\n\n\n\nThis event is for Chamber Members only.\n\n\n\nThank you to Kumler Collision and Automotive for sponsoring this event \n\n\n\nNew Chamber Members participating include: \n\nE F Murphy\n\nFairfield County 2-1-1\n\nM. Capelli Salon\n\nRockford Homes\n\nServpro of Fairfield County\n\nT-Mobile \n\nU.S. Army Recruiting Station\n\nWestaff\n\nWesterman Inc.
X-ALT-DESC;FMTTYPE=text/html:<span style="font-size:18px\;"><strong>Chamber Connect: Get to Know Our New Chamber Members</strong></span><br />\n<span style="font-size:16px\;">Join us as we introduce you to some of our newest members and learn about their businesses.<br />\n<br />\n<em>This event is for Chamber Members only.</em><br />\n<br />\nThank you to <a href="http://www.kumler.com">Kumler Collision and Automotive<strong>&nbsp\;</strong></a>for sponsoring this event<em>&nbsp\;</em><br />\n<br />\n<strong>New Chamber Members participating include:</strong>&nbsp\;<br />\n<span style="color: rgb(0\, 0\, 255)\; font-family: sans-serif\, Arial\, Verdana\, &quot\;Trebuchet MS&quot\;\; background-color: rgb(255\, 255\, 255)\;">E F Murphy</span><br />\n<span style="color:#0000FF\;">Fairfield County 2-1-1</span><br />\n<span style="color: rgb(0\, 0\, 255)\; font-family: sans-serif\, Arial\, Verdana\, &quot\;Trebuchet MS&quot\;\; background-color: rgb(255\, 255\, 255)\;">M. Capelli Salon<br />\nRockford Homes</span><br />\n<span style="color:#0000FF\;">Servpro of Fairfield County</span><br />\n<span style="font-family: sans-serif\, Arial\, Verdana\, &quot\;Trebuchet MS&quot\;\; color: rgb(0\, 0\, 205)\;">T-Mobile</span><span style="color: rgb(51\, 51\, 51)\; font-family: sans-serif\, Arial\, Verdana\, &quot\;Trebuchet MS&quot\;\; background-color: rgb(255\, 255\, 255)\;">&nbsp\;</span><br />\n<span style="color: rgb(0\, 0\, 255)\; font-family: sans-serif\, Arial\, Verdana\, &quot\;Trebuchet MS&quot\;\; background-color: rgb(255\, 255\, 255)\;">U.S. Army Recruiting Station<br />\nWestaff</span><br />\n<span style="color:#0000FF\;">Westerman Inc.</span></span><br />\n<br />\n<br />\n<br />\n&nbsp\;
LOCATION:NEW LOCATION!!!! We're moving this event from the Chamber office to: The Fairfield County Records Center 138 W. Chestnut Street Lancaster\, Ohio 43130
UID:e.3121.713
SEQUENCE:3
DTSTAMP:20260420T060230Z
URL:https://business.lancoc.org/events/details/chamber-connect-get-to-know-our-new-chamber-members-tuesday-november-2-2021-713
END:VEVENT

END:VCALENDAR
