BEGIN:VCALENDAR
VERSION:2.0
PRODID:-//ChamberMaster//Event Calendar 2.0//EN
METHOD:PUBLISH
X-PUBLISHED-TTL:P3D
REFRESH-INTERVAL:P3D
CALSCALE:GREGORIAN
BEGIN:VEVENT
DTSTART:20210421T130000Z
DTEND:20210421T140000Z
X-MICROSOFT-CDO-ALLDAYEVENT:FALSE
SUMMARY:Chamber Connect:-Get to Know Our New Chamber Members-April 21\, 2021
DESCRIPTION:Chamber Connect: Get to Know Our New Chamber Members\n\nJoin us as we introduce you to some of our newest members and learn about their business. \n\n\n\nNew Chamber Members participating include: \n\n	\n		\n	\n	\n		\n			Axxel Electric\n		\n		\n			Buckeye Metal Works\, Inc\n		\n		\n			Gary Gibson Insurance Agency\, LLC\n		\n		\n			Geenex Solar\n		\n		\n			Hocking College\n		\n		\n			 Sherman Rotary of Lancaster\n		\n		\n			Taylor-Theller Funeral Home
X-ALT-DESC;FMTTYPE=text/html:<span style="font-size:16px\;"><strong>Chamber Connect: Get to Know Our New Chamber Members</strong></span><br />\n<span style="font-size:14px\;">Join us as we introduce you to some of our newest members and learn about their business.&nbsp\;</span><br />\n<br />\n<strong>New Chamber Members participating include:</strong>&nbsp\;\n<table border="0" cellpadding="0" cellspacing="0" style="border-collapse:collapse\;width:269px\;" width="269">\n	<colgroup>\n		<col style="width:269px\;" />\n	</colgroup>\n	<tbody>\n		<tr height="20" style="height:20px\;">\n			<td height="20" style="height:20px\;width:269px\;"><span style="color:#0000FF\;"><strong>Axxel Electric</strong></span></td>\n		</tr>\n		<tr height="20" style="height:20px\;">\n			<td height="20" style="height:20px\;"><span style="color:#0000FF\;"><strong>Buckeye Metal Works\, Inc</strong></span></td>\n		</tr>\n		<tr height="20" style="height:20px\;">\n			<td height="20" style="height:20px\;"><span style="color:#0000FF\;"><strong>Gary Gibson Insurance Agency\, LLC</strong></span></td>\n		</tr>\n		<tr height="20" style="height:20px\;">\n			<td height="20" style="height:20px\;"><span style="color:#0000FF\;"><strong>Geenex Solar</strong></span></td>\n		</tr>\n		<tr height="20" style="height:20px\;">\n			<td height="20" style="height:20px\;"><span style="color:#0000FF\;"><strong>Hocking College</strong></span></td>\n		</tr>\n		<tr height="20" style="height:20px\;">\n			<td height="20" style="height:20px\;"><span style="color:#0000FF\;"><strong>&#8203\;Sherman Rotary of Lancaster</strong></span></td>\n		</tr>\n		<tr height="20" style="height:20px\;">\n			<td height="20" style="height:20px\;"><span style="color:#0000FF\;"><strong>Taylor-Theller Funeral Home</strong></span></td>\n		</tr>\n	</tbody>\n</table>\n
LOCATION:In the comfort of your own office via zoom.
UID:e.3121.563
SEQUENCE:3
DTSTAMP:20260422T164602Z
URL:https://business.lancoc.org/events/details/chamber-connect-get-to-know-our-new-chamber-members-april-21-2021-563
END:VEVENT

END:VCALENDAR
