BEGIN:VCALENDAR
VERSION:2.0
PRODID:-//ChamberMaster//Event Calendar 2.0//EN
METHOD:PUBLISH
X-PUBLISHED-TTL:P3D
REFRESH-INTERVAL:P3D
CALSCALE:GREGORIAN
BEGIN:VEVENT
DTSTART:20201118T173000Z
DTEND:20201118T183000Z
X-MICROSOFT-CDO-ALLDAYEVENT:FALSE
SUMMARY:Chamber Connect: Get to Know Our New Chamber Members
DESCRIPTION:Chamber Connect: Get to Know Our New Chamber Members\n\nJoin us as we introduce you to our newest members and learn about their business. \n\nNew Chamber Members participating include: \n\nHorizon \n\nWagner Insurance Agency\n\nMax Container Options\n\nHonor Home Health\n\nPerformance Cadillac\, GMC\n\nWeekley Travel
X-ALT-DESC;FMTTYPE=text/html:Chamber Connect: Get to Know Our New Chamber Members<br />\nJoin us as we introduce you to our newest members and learn about their business.&nbsp\;<br />\nNew Chamber Members participating include:&nbsp\;<br />\nHorizon&nbsp\;<br />\nWagner Insurance Agency<br />\nMax Container Options<br />\nHonor Home Health<br />\nPerformance Cadillac\, GMC<br />\nWeekley Travel<br />\n<br />\n&nbsp\;
LOCATION:In the comfort of your own office via zoom.
UID:e.3121.481
SEQUENCE:3
DTSTAMP:20260423T040436Z
URL:https://business.lancoc.org/events/details/chamber-connect-get-to-know-our-new-chamber-members-481
END:VEVENT

END:VCALENDAR
