BEGIN:VCALENDAR
VERSION:2.0
PRODID:-//ChamberMaster//Event Calendar 2.0//EN
METHOD:PUBLISH
X-PUBLISHED-TTL:P3D
REFRESH-INTERVAL:P3D
CALSCALE:GREGORIAN
BEGIN:VEVENT
DTSTART:20201202T173000Z
DTEND:20201202T183000Z
X-MICROSOFT-CDO-ALLDAYEVENT:FALSE
SUMMARY:Chamber Connect: Dec. 2nd-Get to Know Our New Chamber Members
DESCRIPTION:Chamber Connect: Get to Know Our New Chamber Members\n\nJoin us as we introduce you to our newest members and learn about their business. \n\n\n\nNew Chamber Members participating include: \n\nBottoms Up Diaper Drive\n\nGlass City Hibachi Grill\n\nGriswold Home Care\n\nRiver Valley Restoration\n\nUrPCHelp
X-ALT-DESC;FMTTYPE=text/html:<span style="font-size:16px\;"><strong>Chamber Connect: Get to Know Our New Chamber Members</strong></span><br />\n<span style="font-size:14px\;">Join us as we introduce you to our newest members and learn about their business.&nbsp\;</span><br />\n<br />\n<strong>New Chamber Members participating include:</strong>&nbsp\;<br />\nBottoms Up Diaper Drive<br />\nGlass City Hibachi Grill<br />\nGriswold Home Care<br />\nRiver Valley Restoration<br />\nUrPCHelp<br />\n<br />\n&nbsp\;
LOCATION:In the comfort of your own office via zoom.
UID:e.3121.485
SEQUENCE:3
DTSTAMP:20260423T021338Z
URL:https://business.lancoc.org/events/details/chamber-connect-dec-2nd-get-to-know-our-new-chamber-members-485
END:VEVENT

END:VCALENDAR
