BEGIN:VCALENDAR
VERSION:2.0
PRODID:-//ChamberMaster//Event Calendar 2.0//EN
METHOD:PUBLISH
X-PUBLISHED-TTL:P3D
REFRESH-INTERVAL:P3D
CALSCALE:GREGORIAN
BEGIN:VEVENT
DTSTART:20190925T153000Z
DTEND:20190925T170000Z
X-MICROSOFT-CDO-ALLDAYEVENT:FALSE
SUMMARY:Chamber Cafe: Update on Fairfield County Agriculture
DESCRIPTION:Join us for the next Chamber Caf  Series to hear about Fairfield Co. Farm Bureau and its current priorities as well as a report on how this year?s weather conditions are impacting crop production.\n\n \n\nOur speakers will be Lynne Schultz and Rich Lamp.  Lynn\, Board President of the Fairfield County Farm Bureau\, runs Schultz Valley Farms with her husband. Located in the rolling hills of Bremen\, it is family owned and operated and uses sustainable and responsible farming practices.  Rich Lamp\, of the Lamp Family Farms in Amanda\, will provide a recap of the challenging planting season and predictions on the impact it will have for the harvest of Fairfield County?s corn and soybean crops.
X-ALT-DESC;FMTTYPE=text/html:<span style="font-size:14px\;"><span style="font-family:arial\;">Join us for the next Chamber Caf&eacute\; Series to hear about Fairfield Co. Farm Bureau and its current priorities as well as a report on how this year?s weather conditions are impacting crop production.<br />\n&nbsp\;<br />\nOur speakers will be Lynne Schultz and Rich Lamp.&nbsp\; Lynn\, Board President of the Fairfield County Farm Bureau\, runs Schultz Valley Farms with her husband. Located in the rolling hills of Bremen\, it is family owned and operated and uses sustainable and responsible farming practices.&nbsp\; Rich Lamp\, of the Lamp Family Farms in Amanda\, will provide a recap of the challenging planting season and predictions on the impact it will have for the harvest of Fairfield County?s corn and soybean crops.&nbsp\;<br />\n&nbsp\;</span></span><br />\n&nbsp\;
LOCATION:The Ale House 1890 149 W. Main Street Lancaster\, Ohio 43130
UID:e.3121.349
SEQUENCE:3
DTSTAMP:20260424T030147Z
URL:https://business.lancoc.org/events/details/chamber-cafe-update-on-fairfield-county-agriculture-349
END:VEVENT

END:VCALENDAR
