BEGIN:VCALENDAR
VERSION:2.0
PRODID:-//ChamberMaster//Event Calendar 2.0//EN
METHOD:PUBLISH
X-PUBLISHED-TTL:P3D
REFRESH-INTERVAL:P3D
CALSCALE:GREGORIAN
BEGIN:VEVENT
DTSTART:20190807T153000Z
DTEND:20190807T170000Z
X-MICROSOFT-CDO-ALLDAYEVENT:FALSE
SUMMARY:Chamber Cafe Series Luncheon-Economic & Workforce Development Update
DESCRIPTION:Update on Economic & Workforce Development.\n\nRick Szabrak\, Economic & Workforce Development Director for Fairfield County\, will discuss the county's new Workforce Training Center and how it can become a game changer for businesses\, job seekers\, and the community. He will also give an update on the 33 Alliance's Career Readiness program and how it's building pathways for local students.
X-ALT-DESC;FMTTYPE=text/html:<strong>Update on Economic &amp\; Workforce Development.</strong><br />\n<span style="background:white\;"><span style="color:#333333\;"><span style="font-family:arial\,sans-serif\;"><span style="font-size:10.0pt\;">Rick Szabrak\, Economic &amp\; Workforce Development Director for Fairfield County\, will discuss the county&rsquo\;s new Workforce Training Center and how it can become a game changer for businesses\, job seekers\, and the community. He will also give an update on the 33 Alliance&rsquo\;s Career Readiness program and how it&rsquo\;s building pathways for local students.</span></span></span></span><br />\n&nbsp\;<br />\n&nbsp\;
LOCATION:Ale House 1890 149 W. Main Street Lancaster\, Ohio
UID:e.3121.323
SEQUENCE:3
DTSTAMP:20260424T092739Z
URL:https://business.lancoc.org/events/details/chamber-cafe-series-luncheon-economic-workforce-development-update-323
END:VEVENT

END:VCALENDAR
