BEGIN:VCALENDAR
VERSION:2.0
PRODID:-//ChamberMaster//Event Calendar 2.0//EN
METHOD:PUBLISH
X-PUBLISHED-TTL:P3D
REFRESH-INTERVAL:P3D
CALSCALE:GREGORIAN
BEGIN:VEVENT
DTSTART:20200301T190000Z
DTEND:20200301T200000Z
X-MICROSOFT-CDO-ALLDAYEVENT:FALSE
SUMMARY:Chalk Talk
DESCRIPTION:Meet Nate Beeler\, former political cartoonist of The Columbus Dispatch as he draws and explains the art of cartooning.
X-ALT-DESC;FMTTYPE=text/html:Meet Nate Beeler\, former political cartoonist of The Columbus Dispatch as he draws and explains the art of cartooning.
LOCATION:Decorative Arts Center of Ohio 145 E Main St Lancaster\, Ohio 43130
UID:e.3121.395
SEQUENCE:3
DTSTAMP:20260423T185448Z
URL:https://business.lancoc.org/events/details/chalk-talk-395
END:VEVENT

END:VCALENDAR
