BEGIN:VCALENDAR
VERSION:2.0
PRODID:-//ChamberMaster//Event Calendar 2.0//EN
METHOD:PUBLISH
X-PUBLISHED-TTL:P3D
REFRESH-INTERVAL:P3D
CALSCALE:GREGORIAN
BEGIN:VEVENT
DTSTART:20191005T113000Z
DTEND:20191005T150000Z
X-MICROSOFT-CDO-ALLDAYEVENT:FALSE
SUMMARY:Cancer Care Run
DESCRIPTION:Twig One's Annual 5K run\, 2 mile walk and Kids Fun Run supporting local patients fighting cancer.
X-ALT-DESC;FMTTYPE=text/html:Twig One&#39\;s Annual 5K run\, 2 mile walk and Kids Fun Run supporting local patients fighting cancer.&nbsp\;
LOCATION:Martens Park Lancaster\, Ohio
UID:e.3121.306
SEQUENCE:3
DTSTAMP:20260424T043134Z
URL:https://business.lancoc.org/events/details/cancer-care-run-306
END:VEVENT

END:VCALENDAR
