BEGIN:VCALENDAR
VERSION:2.0
PRODID:-//ChamberMaster//Event Calendar 2.0//EN
METHOD:PUBLISH
X-PUBLISHED-TTL:P3D
REFRESH-INTERVAL:P3D
CALSCALE:GREGORIAN
BEGIN:VEVENT
DTSTART:20210602T113000Z
DTEND:20210602T130000Z
X-MICROSOFT-CDO-ALLDAYEVENT:FALSE
SUMMARY:Buiji ActionCOACH\, Coffee and Cashflow: FIVE WAYS TO INCREASE THE PROFITS IN YOUR BUSINESS
DESCRIPTION:A "must-attend" event for any business owner or decision-maker who wants to grow their business!\n\n\n\nInternationally recognized coach\, speaker\, and small business mentor\, Annette Hohnberger\, will share her easy to use formula and strategies to grow your business and take control of your cashflow.\n\n\n\nThis event is LIVE and FREE\, and we personally guarantee that you will learn something new that you can immediately apply to your business.\n\n\n\nUse this link to register https://vwu66hgi.pages.infusionsoft.net/
X-ALT-DESC;FMTTYPE=text/html:A &quot\;must-attend&quot\; event for any business owner or decision-maker who wants to grow their business!<br />\n<br />\nInternationally recognized coach\, speaker\, and small business mentor\, Annette Hohnberger\, will share her easy to use formula and strategies to grow your business and take control of your cashflow.<br />\n<br />\nThis event is LIVE and FREE\, and we personally guarantee that you will learn something new that you can immediately apply to your business.<br />\n<br />\nUse this link to register <a href="https://vwu66hgi.pages.infusionsoft.net/">https://vwu66hgi.pages.infusionsoft.net/</a>
LOCATION:8233 Howe Industrial Pkwy Canal Winchester\, OH 43110
UID:e.3121.586
SEQUENCE:3
DTSTAMP:20260422T130109Z
URL:https://business.lancoc.org/events/details/buiji-actioncoach-coffee-and-cashflow-five-ways-to-increase-the-profits-in-your-business-586
END:VEVENT

END:VCALENDAR
