BEGIN:VCALENDAR
VERSION:2.0
PRODID:-//ChamberMaster//Event Calendar 2.0//EN
METHOD:PUBLISH
X-PUBLISHED-TTL:P3D
REFRESH-INTERVAL:P3D
CALSCALE:GREGORIAN
BEGIN:VEVENT
DTSTART:20190809T200000Z
DTEND:20190809T203000Z
X-MICROSOFT-CDO-ALLDAYEVENT:FALSE
SUMMARY:Brew Week Kick-Off Ribbon Cutting: Double Edge Brewery
DESCRIPTION:Brew Week Kick-Off Ribbon Cutting
X-ALT-DESC;FMTTYPE=text/html:Brew Week Kick-Off Ribbon Cutting&nbsp\;&nbsp\;&nbsp\;&nbsp\;
LOCATION:Double Edge Brewery 158 W Chestnut Street Lancaster\, Ohio
UID:e.3121.325
SEQUENCE:3
DTSTAMP:20260424T064803Z
URL:https://business.lancoc.org/events/details/brew-week-kick-off-ribbon-cutting-double-edge-brewery-325
END:VEVENT

END:VCALENDAR
