BEGIN:VCALENDAR
VERSION:2.0
PRODID:-//ChamberMaster//Event Calendar 2.0//EN
METHOD:PUBLISH
X-PUBLISHED-TTL:P3D
REFRESH-INTERVAL:P3D
CALSCALE:GREGORIAN
BEGIN:VEVENT
DTSTART:20220722T000000Z
DTEND:20220722T020000Z
X-MICROSOFT-CDO-ALLDAYEVENT:FALSE
SUMMARY:Bravo Beethoven-Lancaster Festival Opening Night
DESCRIPTION:
X-ALT-DESC;FMTTYPE=text/html:
LOCATION:St. Mary of the Assumption Church 132 S. High Street Lancaster\, Ohio 43130
UID:e.3121.785
SEQUENCE:3
DTSTAMP:20260424T092407Z
URL:https://business.lancoc.org/events/details/bravo-beethoven-lancaster-festival-opening-night-785
END:VEVENT

END:VCALENDAR
