BEGIN:VCALENDAR
VERSION:2.0
PRODID:-//ChamberMaster//Event Calendar 2.0//EN
METHOD:PUBLISH
X-PUBLISHED-TTL:P3D
REFRESH-INTERVAL:P3D
CALSCALE:GREGORIAN
BEGIN:VEVENT
DTSTART:20210501T140000Z
DTEND:20210501T200000Z
X-MICROSOFT-CDO-ALLDAYEVENT:FALSE
SUMMARY:Bottoms Up World's Largest Diaper Drive
DESCRIPTION:Join Bottoms Up Diaper Drive as they aim to set the record for the most diapers collected at 250\,000 Diapers! Bottoms up is currently seeking sponsors\, volunteers and diaper donations.
X-ALT-DESC;FMTTYPE=text/html:Join Bottoms Up Diaper Drive as they aim to set the record for the most diapers collected at 250\,000 Diapers! Bottoms up is currently seeking sponsors\, volunteers and diaper donations.
LOCATION:There will be 4 diaper drop off spots in Lancaster on May 1st. Job & Family Services Parking Lot The Tree Church Parking Lot Fairfield Christian Church Parking Lot Tractor Supply Co\, E. Main St.
UID:e.3121.500
SEQUENCE:3
DTSTAMP:20260422T163223Z
URL:https://business.lancoc.org/events/details/bottoms-up-world-s-largest-diaper-drive-500
END:VEVENT

END:VCALENDAR
