BEGIN:VCALENDAR
VERSION:2.0
PRODID:-//ChamberMaster//Event Calendar 2.0//EN
METHOD:PUBLISH
X-PUBLISHED-TTL:P3D
REFRESH-INTERVAL:P3D
CALSCALE:GREGORIAN
BEGIN:VEVENT
DTSTART:20210923T220000Z
DTEND:20210924T010000Z
X-MICROSOFT-CDO-ALLDAYEVENT:FALSE
SUMMARY:Bottoms Up Diaper Drive\, Celebration Banquet
DESCRIPTION:Bottoms Up Diaper Drive Celebration Banquet\n\nDinner Program Includes\n\nRaffles\, Door Prizes and Entertainment \n\n\n\nFollow this link to Register: https://www.eventbrite.com/e/165906905019
X-ALT-DESC;FMTTYPE=text/html:Bottoms Up Diaper Drive Celebration Banquet<br />\nDinner Program Includes<br />\nRaffles\, Door Prizes and Entertainment&nbsp\;<br />\n<br />\nFollow this link to Register: <a href="https://www.eventbrite.com/e/165906905019">https://www.eventbrite.com/e/165906905019</a>
LOCATION:Annunciation Ballroom and Conference Center 555 N High St.\, Columbus\, OH 43215
UID:e.3121.648
SEQUENCE:3
DTSTAMP:20260420T073335Z
URL:https://business.lancoc.org/events/details/bottoms-up-diaper-drive-celebration-banquet-648
END:VEVENT

END:VCALENDAR
