BEGIN:VCALENDAR
VERSION:2.0
PRODID:-//ChamberMaster//Event Calendar 2.0//EN
METHOD:PUBLISH
X-PUBLISHED-TTL:P3D
REFRESH-INTERVAL:P3D
CALSCALE:GREGORIAN
BEGIN:VEVENT
DTSTART:20200213T170000Z
DTEND:20200213T173000Z
X-MICROSOFT-CDO-ALLDAYEVENT:FALSE
SUMMARY:Blue Label Packaging's Recent Expansion Ribbon Cutting
DESCRIPTION:Ribbon Cutting to Celebrate Expansion\n\n\n\nBlue Label Packaging
X-ALT-DESC;FMTTYPE=text/html:Ribbon Cutting to Celebrate Expansion<br />\n<br />\nBlue Label Packaging
LOCATION:3750 Lancaster New Lexington Road Lancaster\, Ohio 43130
UID:e.3121.413
SEQUENCE:3
DTSTAMP:20260423T190445Z
URL:https://business.lancoc.org/events/details/blue-label-packaging-s-recent-expansion-ribbon-cutting-413
END:VEVENT

END:VCALENDAR
