BEGIN:VCALENDAR
VERSION:2.0
PRODID:-//ChamberMaster//Event Calendar 2.0//EN
METHOD:PUBLISH
X-PUBLISHED-TTL:P3D
REFRESH-INTERVAL:P3D
CALSCALE:GREGORIAN
BEGIN:VEVENT
DTSTART:20210821T110000Z
DTEND:20210821T183000Z
X-MICROSOFT-CDO-ALLDAYEVENT:FALSE
SUMMARY:Bike Buckeye Lake's Tour de Buckeye Lake
DESCRIPTION:Tour de Buckeye Lake Cycling Event Back and Bigger!\n\nBeing held on Saturday\, August 21\, Bike Buckeye Lake is anticipating their 2021 Tour de Buckeye Lake cycling event will break its 2019\, pre-pandemic event record which brought nearly 500 cyclists to the Buckeye Lake region. The 2020 event was held over a three-day period on a much smaller scale to comply with the COVID-19 health and safety regulations imposed at that time. Bike Buckeye Lake has been harnessing all of the growing excitement that returning to normal brings\, and has reshaped this annual event to be the largest one yet.\n\nAll riders who register for the event by July 25th will receive a free\, 2021 Tour de Buckeye Lake event t-shirt. There are three routes to choose from   an 11-mile route mostly on the Buckeye Lake Dam trail\, which is perfect for children and leisure riders\, a 28-mile route that adds countryside\, and a new metric century that adds beautiful Dawes Arboretum for all riders who want to achieve that major milestone.\n\nBasecamp for Tour de Buckeye Lake will be at the Millersport Lions Club\, where registration will be held\, the ride will begin and end\, and where local favorited musicians Big Bad Stache will be playing live at the after-party from 10:30am-2:30pm. The after-party will be open to the public\, and will have food trucks\, a beer garden and other fun activities for everyone to enjoy!\n\nTo guarantee a free event t-shirt\, register by July 25th. Registration and more details about the event\, such as free water taxi service for all riders can be found at bikebuckeyelake.org.\n\nAll proceeds of Tour de Buckeye Lake go toward our Mission of continuing the development of the multiuse trail around Buckeye Lake.
X-ALT-DESC;FMTTYPE=text/html:<p><strong>Tour de Buckeye Lake Cycling Event Back and Bigger!</strong></p>\n\n<p>Being held on <strong>Saturday\, August 21</strong>\, Bike Buckeye Lake is anticipating their 2021 Tour de Buckeye Lake cycling event will break its 2019\, pre-pandemic event record which brought nearly 500 cyclists to the Buckeye Lake region. The 2020 event was held over a three-day period on a much smaller scale to comply with the COVID-19 health and safety regulations imposed at that time. Bike Buckeye Lake has been harnessing all of the growing excitement that returning to normal brings\, and has reshaped this annual event to be the largest one yet.</p>\n\n<p>All riders who register for the event by July 25th will receive a free\, 2021 Tour de Buckeye Lake event t-shirt. There are three routes to choose from &ndash\; an 11-mile route mostly on the Buckeye Lake Dam trail\, which is perfect for children and leisure riders\, a 28-mile route that adds countryside\, and a new metric century that adds beautiful Dawes Arboretum for all riders who want to achieve that major milestone.</p>\n\n<p>Basecamp for Tour de Buckeye Lake will be at the Millersport Lions Club\, where registration will be held\, the ride will begin and end\, and where local favorited musicians Big Bad Stache will be playing live at the after-party from 10:30am-2:30pm. The after-party will be open to the public\, and will have food trucks\, a beer garden and other fun activities for everyone to enjoy!</p>\n\n<p>To guarantee a free event t-shirt\, register by July 25th. Registration and more details about the event\, such as free water taxi service for all riders can be found at <a href="https://bikebuckeyelake.org/">bikebuckeyelake.org</a>.</p>\n\n<p>All proceeds of Tour de Buckeye Lake go toward our Mission of continuing the development of the multiuse trail around Buckeye Lake.</p>\n
LOCATION:Millersport Lions Club\, 2900 Chautauqua Blvd\, Millersport\, OH 43046
UID:e.3121.609
SEQUENCE:3
DTSTAMP:20260422T092124Z
URL:https://business.lancoc.org/events/details/bike-buckeye-lake-s-tour-de-buckeye-lake-609
END:VEVENT

END:VCALENDAR
