BEGIN:VCALENDAR
VERSION:2.0
PRODID:-//ChamberMaster//Event Calendar 2.0//EN
METHOD:PUBLISH
X-PUBLISHED-TTL:P3D
REFRESH-INTERVAL:P3D
CALSCALE:GREGORIAN
BEGIN:VEVENT
DTSTART:20210828T223000Z
DTEND:20210828T223000Z
X-MICROSOFT-CDO-ALLDAYEVENT:FALSE
SUMMARY:Big Brothers Big Sisters of Fairfield County\, Laugh for Kids' Sake
DESCRIPTION:Big Brothers Big Sisters of Fairfield County presents the 12th Annual Laugh for Kids' Sake\, Adult Comedy Night Fundraiser on Saturday\, August 28th\, 2021.\n\n\n\nDoors Open at 6:30 pm. Show starts at 8:00 pm\n\nAt Fisher Catholic High School\, 1803 SR-37\, Lancaster\, Ohio\n\n\n\n$30 per person\, must be 18 years or older. Social distancing and masks required. Food truck and cash bar\n\navailable. Tickets can be purchased at BBBS 111 South Broad Street\, Lancaster/Standing Stone Lancaster\n\nlocations/Joni Campbell State Farm 1043 East 6th Street\, Lancaster or any BBBS Board Member. Tickets are\n\nnon-refundable. All proceeds benefit Big Brothers Big Sisters of Fairfield County.
X-ALT-DESC;FMTTYPE=text/html:Big Brothers Big Sisters of Fairfield County presents the 12th Annual Laugh for Kids&#39\; Sake\, Adult Comedy Night Fundraiser on Saturday\, August 28th\, 2021.<br />\n<br />\nDoors Open at 6:30 pm. Show starts at 8:00 pm<br />\nAt Fisher Catholic High School\, 1803 SR-37\, Lancaster\, Ohio<br />\n<br />\n$30 per person\, must be 18 years or older. Social distancing and masks required. Food truck and cash bar<br />\navailable. Tickets can be purchased at BBBS 111 South Broad Street\, Lancaster/Standing Stone Lancaster<br />\nlocations/Joni Campbell State Farm 1043 East 6th Street\, Lancaster or any BBBS Board Member. Tickets are<br />\nnon-refundable. All proceeds benefit Big Brothers Big Sisters of Fairfield County.
LOCATION:Fisher Catholic High School\, 1803 SR-37\, Lancaster\, OH
UID:e.3121.634
SEQUENCE:3
DTSTAMP:20260422T092142Z
URL:https://business.lancoc.org/events/details/big-brothers-big-sisters-of-fairfield-county-laugh-for-kids-sake-634
END:VEVENT

END:VCALENDAR
