BEGIN:VCALENDAR
VERSION:2.0
PRODID:-//ChamberMaster//Event Calendar 2.0//EN
METHOD:PUBLISH
X-PUBLISHED-TTL:P3D
REFRESH-INTERVAL:P3D
CALSCALE:GREGORIAN
BEGIN:VEVENT
DTSTART:20210919T020000Z
DTEND:20210919T183000Z
X-MICROSOFT-CDO-ALLDAYEVENT:FALSE
SUMMARY:Big Brothers Big Sisters of Fairfield County\, Bowl For Kids' Sake in Pickerington
DESCRIPTION:Join the Big Brothers Big Sisters of Fairfield County as we unite for a common cause and raise funds at the 2021 Bowl for Kids' Sake - Pickerington. Bowl for Kids' Sake is Big Brothers Big Sisters' signature fundraiser. You can join millions of people across America who are raising money and bowling to support Big Brothers Big Sisters. Bowl for Kids' Sake is the perfect way for you to make an impact on our community.\n\n\n\nParticipants form teams of 4-5 family\, friends\, or co-workers who fund raise on behalf of BBBS in the weeks leading up to the event. Team members are asked to raise $60 (of course you can always raise more). Each bowler who raises $60 will receive the new logo t-shirt. Your team selects your bowling session and the fun begins! If you are unable to attend the event\, you can still register and raise funds as a Virtual Bowler. Become a Defender of Potential and Bowl with US! \n\nTo get started\, just select the "REGISTER" button to start a team\, join a team\, or register with no team. There is no fee to register and/or start a team. Additional family/team members can be added by selecting the green "Add Another Registrant" button during Step 3. After you complete registration you can start your team or personal fundraising page by selecting the "Fundraising Page Set Up" button at the top of the online receipt.\n\nIf you can not attend this event but would like to make a donation to Big Brothers Big Sisters of Fairfield County\, please select the DONATE button. You can also donate to an individual or team by visiting their fundraising page under the TEAMS/PEOPLE tab.
X-ALT-DESC;FMTTYPE=text/html:<p style="margin: 0px 0px 10px\; color: rgb(51\, 51\, 51)\; font-family: &quot\;Open Sans&quot\;\, &quot\;Avenir Light&quot\;\, AvenirLight\, Avenir\, &quot\;Helvetica Neue&quot\;\, Helvetica\, Arial\, sans-serif\; font-size: 16px\; background-color: rgb(255\, 255\, 255)\;"><span style="font-size: 17px\;">Join the Big Brothers Big Sisters of Fairfield County as we unite for a common cause and raise funds at the 2021&nbsp\;Bowl for Kids&#39\; Sake - Pickerington. Bowl for Kids&#39\; Sake is Big Brothers Big Sisters&#39\; signature fundraiser. You can join millions of people across America who are raising money and bowling to support Big Brothers Big Sisters. Bowl for Kids&#39\; Sake is the perfect way for you to make an impact on our community.</span><br />\n<br />\n<span style="font-size: 17px\;">Participants form teams of 4-5 family\, friends\, or co-workers who fund raise on behalf of BBBS in the weeks leading up to the event. Team members are asked to raise $60 (of course you can always raise more). Each bowler who raises $60 will receive the new logo t-shirt. Your team selects your bowling session and the fun begins!&nbsp\;If you are unable to attend the event\, you can still register and raise funds as a Virtual Bowler.&nbsp\;Become a Defender of Potential and Bowl with US!&nbsp\;</span></p>\n\n<p style="margin: 0px 0px 10px\; color: rgb(51\, 51\, 51)\; font-family: &quot\;Open Sans&quot\;\, &quot\;Avenir Light&quot\;\, AvenirLight\, Avenir\, &quot\;Helvetica Neue&quot\;\, Helvetica\, Arial\, sans-serif\; font-size: 16px\; background-color: rgb(255\, 255\, 255)\;"><span style="font-size: 17px\;">To get started\,&nbsp\;just select the &quot\;<strong>REGISTER&quot\;</strong>&nbsp\;button to start a team\, join a team\, or register with no team. There is no fee to register and/or start a team.&nbsp\;Additional family/team members can be added by selecting the green &quot\;<strong>Add Another Registrant</strong>&quot\; button during Step 3.&nbsp\;After you complete registration you can start your team or personal fundraising page by selecting the &quot\;<strong>Fundraising Page Set Up&quot\;</strong>&nbsp\;button at the top of the online receipt.</span></p>\n\n<p style="margin: 0px 0px 10px\; color: rgb(51\, 51\, 51)\; font-family: &quot\;Open Sans&quot\;\, &quot\;Avenir Light&quot\;\, AvenirLight\, Avenir\, &quot\;Helvetica Neue&quot\;\, Helvetica\, Arial\, sans-serif\; font-size: 16px\; background-color: rgb(255\, 255\, 255)\;"><span style="font-size: 17px\;">If you can not attend this event but would like to make a donation to Big Brothers Big&nbsp\;Sisters of&nbsp\;Fairfield County\,&nbsp\;please select the&nbsp\;<strong>DONATE</strong>&nbsp\;button. You can also donate to an individual or team by visiting their fundraising page under the&nbsp\;<strong>TEAMS/PEOPLE</strong>&nbsp\;tab.</span></p>\n
LOCATION:Rule 3 650 Windmiller Drive Pickerington\, OH 43147
UID:e.3121.650
SEQUENCE:3
DTSTAMP:20260420T073731Z
URL:https://business.lancoc.org/events/details/big-brothers-big-sisters-of-fairfield-county-bowl-for-kids-sake-in-pickerington-650
END:VEVENT

END:VCALENDAR
