BEGIN:VCALENDAR
VERSION:2.0
PRODID:-//ChamberMaster//Event Calendar 2.0//EN
METHOD:PUBLISH
X-PUBLISHED-TTL:P3D
REFRESH-INTERVAL:P3D
CALSCALE:GREGORIAN
BEGIN:VEVENT
DTSTART:20190811T180000Z
DTEND:20190811T190000Z
X-MICROSOFT-CDO-ALLDAYEVENT:FALSE
SUMMARY:Artist Talk: Tony Mendoza
DESCRIPTION:Photographer Tony Mendoza will share the stories and process of his works in the exhibition\, on display in the Lower Level Gallery. The photographs come from his book Cuba - Going Back\, about his first trip to Cuba after immigrating to the US nearly 40 years earlier
X-ALT-DESC;FMTTYPE=text/html:Photographer Tony Mendoza will share the stories and process of his works in the exhibition\, on display in the Lower Level Gallery. The photographs come from his book Cuba - Going Back\, about his first trip to Cuba after immigrating to the US nearly 40 years earlier
LOCATION:The Decorative Arts Center of Ohio 145 E. Main St Lancaster\, Ohio 43130
UID:e.3121.300
SEQUENCE:3
DTSTAMP:20260424T080736Z
URL:https://business.lancoc.org/events/details/artist-talk-tony-mendoza-300
END:VEVENT

END:VCALENDAR
