BEGIN:VCALENDAR
VERSION:2.0
PRODID:-//ChamberMaster//Event Calendar 2.0//EN
METHOD:PUBLISH
X-PUBLISHED-TTL:P3D
REFRESH-INTERVAL:P3D
CALSCALE:GREGORIAN
BEGIN:VEVENT
DTSTART:20200228T000000Z
DTEND:20200228T020000Z
X-MICROSOFT-CDO-ALLDAYEVENT:FALSE
SUMMARY:"Almost\, Maine"
DESCRIPTION:THE STORY: Welcome to Almost\, Maine\, a place that's so far north\, it's almost not in the United States. It's almost in Canada. And it's not quite a town\, because its residents never got around to getting organized. So it almost doesn't exist. One cold\, clear\, winter night\, as the northern lights hover in the star-filled sky above\, the residents of Almost\, Maine\, find themselves falling in and out of love in unexpected and hilarious ways. Knees are bruised. Hearts are broken. But the bruises heal\, and the hearts mend - almost - in this delightful midwinter night's dream. Rated PG 13 Reserved Seating $14 Student Tickets $12
X-ALT-DESC;FMTTYPE=text/html:THE STORY: Welcome to Almost\, Maine\, a place that&rsquo\;s so far north\, it&rsquo\;s almost not in the United States. It&rsquo\;s almost in Canada. And it&rsquo\;s not quite a town\, because its residents never got around to getting organized. So it almost doesn&rsquo\;t exist. One cold\, clear\, winter night\, as the northern lights hover in the star-filled sky above\, the residents of Almost\, Maine\, find themselves falling in and out of love in unexpected and hilarious ways. Knees are bruised. Hearts are broken. But the bruises heal\, and the hearts mend - almost - in this delightful midwinter night&rsquo\;s dream. Rated PG 13 Reserved Seating $14 Student Tickets $12
LOCATION:Ohio University- Lancaster Wagner Theatre 1570 Granville Pike Lancaster\, Ohio 43130
UID:e.3121.421
SEQUENCE:3
DTSTAMP:20260423T204541Z
URL:https://business.lancoc.org/events/details/almost-maine-421
END:VEVENT

END:VCALENDAR
