BEGIN:VCALENDAR
VERSION:2.0
PRODID:-//ChamberMaster//Event Calendar 2.0//EN
METHOD:PUBLISH
X-PUBLISHED-TTL:P3D
REFRESH-INTERVAL:P3D
CALSCALE:GREGORIAN
BEGIN:VEVENT
DTSTART:20210424T133000Z
DTEND:20210424T153000Z
X-MICROSOFT-CDO-ALLDAYEVENT:FALSE
SUMMARY:After School Programs of Lancaster & Rising Park Fundraiser
DESCRIPTION:Join the After School Programs of Lancaster on April 24th from 9:30 - 11:30 AM at Olivdale Park to help raise money to plant the 200th Tree at Rising Park and Support their After School Programs. \n\n\n\n$5 Registration Per Child \n\n\n\nThere will be Raffle Baskets\, Crafts\, Student Tree Voting\, Prizes & So Much MORE
X-ALT-DESC;FMTTYPE=text/html:Join the After School Programs of Lancaster on April 24th from 9:30 - 11:30 AM at Olivdale Park to help raise money to plant the 200th Tree at Rising Park and Support their After School Programs.&nbsp\;<br />\n<br />\n$5 Registration Per Child&nbsp\;<br />\n<br />\nThere will be Raffle Baskets\, Crafts\, Student Tree Voting\, Prizes &amp\; So Much MORE&nbsp\;&nbsp\;
LOCATION:Olivedale Park
UID:e.3121.564
SEQUENCE:3
DTSTAMP:20260422T183307Z
URL:https://business.lancoc.org/events/details/after-school-programs-of-lancaster-rising-park-fundraiser-564
END:VEVENT

END:VCALENDAR
