BEGIN:VCALENDAR
VERSION:2.0
PRODID:-//ChamberMaster//Event Calendar 2.0//EN
METHOD:PUBLISH
X-PUBLISHED-TTL:P3D
REFRESH-INTERVAL:P3D
CALSCALE:GREGORIAN
BEGIN:VEVENT
DTSTART:20180425T153000Z
DTEND:20180425T170000Z
X-MICROSOFT-CDO-ALLDAYEVENT:FALSE
SUMMARY:Administrative Professional's Day
DESCRIPTION:Luncheon to recognize Administrative Professionals Day
X-ALT-DESC;FMTTYPE=text/html:Luncheon to recognize Administrative Professionals Day
LOCATION:Cheers Chalet 1211 Coonpath Road NW Lancaster\, Ohio 43130
UID:e.3121.5
SEQUENCE:3
DTSTAMP:20260425T125108Z
URL:https://business.lancoc.org/events/details/administrative-professional-s-day-5
END:VEVENT

END:VCALENDAR
