BEGIN:VCALENDAR
VERSION:2.0
PRODID:-//ChamberMaster//Event Calendar 2.0//EN
METHOD:PUBLISH
X-PUBLISHED-TTL:P3D
REFRESH-INTERVAL:P3D
CALSCALE:GREGORIAN
BEGIN:VEVENT
DTSTART:20210825T130000Z
DTEND:20210825T150000Z
X-MICROSOFT-CDO-ALLDAYEVENT:FALSE
SUMMARY:ActionCOACH of Central Ohio\, How to Build a Business you can Sell
DESCRIPTION:Reimagine your business:\n\nMany businesses have been through tough times this year. We've been coaching our clients and business owners in the community throughout the pandemic\, and a common theme has developed: As businesses reopen\, owners want their businesses to survive and thrive\, but they also want them to look different than before.\n\nMake your business work so that you don't have to:\n\nDuring this INTERACTIVE workshop you will have the chance to step out of your business and get focused. You will walk away with concrete ideas and actions on how to increase your profits\, make your team more effective\, and get a grip on your time management. You will leave with clearer direction and new tools to achieve your new goals and vision faster.\n\nGet more done in less time:\n\nAt ActionCOACH we call this "Leverage"  or achieving ever more with ever less. We will show you strategies and proven techniques to enable you to spend more time working ON your business rather than working IN your business.\n\n\n\n6 keys to a winning team:\n\nWe will share how we have helped clients improve the productivity and commitment of their team members\, as well as show you how you can attract\, retain\, and motivate to get the very best team in your business.\n\n\n\nHere's what you'll learn:\n\nHow to develop and maintain high growth to achieve maximum value for your business upon exit How to attract and maintain a winning team How to utilize ActionCOACH's '5-Ways' formula to drive profits How to create systems and procedures that allow the business to run without you How to manage and protect your cashflow\n\n\n\nEvent details:\n\nDate: August 25th\, 2021 | 9:00am - 11:00am\n\nLocation: Lancaster   Fairfield County Chamber of Commerce\n\nYour investment: FREE\n\nRegister:\n\nOnline: moreprofitlesswork.actioncoach.com/events\n\nPhone: 740-808-8318\n\nEmail: hannahbrowsky@actioncoach.com\n\n\n\nCase studies - ActionCOACH clients tell all:\n\nSuccess leaves clues. On average our clients achieve 50% growth in revenue and 135% growth in profit year over year. We will show you exactly what they did to achieve this growth and how you can apply these tools to YOUR business.\n\n\n\nSpeaker: Brittany Douglas\, Certified Business Coach\n\nBrittany Douglass is a certified business coach with ActionCOACH Central Ohio   an award-winning business coaching firm ranking in the Top 5 in the U.S. & Top 20 worldwide. She has led teams within both large corporate-structured companies and small\, independently owned organizations. Brittany has proven success in coaching organizations in business development\, growth\, sales\, customer experience\, and team building\, and she now helps clients achieve double and triple-digit growth in profitability year over year (while they work less!)
X-ALT-DESC;FMTTYPE=text/html:<strong>Reimagine your business:</strong><br />\nMany businesses have been through tough times this year. We&#39\;ve been coaching our clients and business owners in the community throughout the pandemic\, and a common theme has developed: As businesses reopen\, owners want their businesses to survive and thrive\, but they also want them to look different than before.<br />\n<strong>Make your business work so that you don&rsquo\;t have to:</strong><br />\nDuring this INTERACTIVE workshop you will have the chance to step out of your business and get focused. You will walk away with concrete ideas and actions on how to increase your profits\, make your team more effective\, and get a grip on your time management. You will leave with clearer direction and new tools to achieve your new goals and vision faster.<br />\n<strong>Get more done in less time:</strong><br />\nAt ActionCOACH we call this &ldquo\;Leverage&rdquo\;&ndash\; or achieving ever more with ever less. We will show you strategies and proven techniques to enable you to spend more time working ON your business rather than working IN your business.<br />\n<br />\n<strong>6 keys to a winning team:</strong><br />\nWe will share how we have helped clients improve the productivity and commitment of their team members\, as well as show you how you can attract\, retain\, and motivate to get the very best team in your business.<br />\n<br />\n<strong>Here&rsquo\;s what you&rsquo\;ll learn:</strong><br />\nHow to develop and maintain high growth to achieve maximum value for your business upon exit How to attract and maintain a winning team How to utilize ActionCOACH&#39\;s &#39\;5-Ways&#39\; formula to drive profits How to create systems and procedures that allow the business to run without you How to manage and protect your cashflow<br />\n<br />\n<strong>Event details:</strong><br />\nDate: August 25th\, 2021 | 9:00am - 11:00am<br />\nLocation: Lancaster &ndash\; Fairfield County Chamber of Commerce<br />\nYour investment: FREE<br />\nRegister:<br />\nOnline: <a href="http://moreprofitlesswork.actioncoach.com/events">moreprofitlesswork.actioncoach.com/events</a><br />\nPhone: 740-808-8318<br />\nEmail:<a href="mailto: hannahbrowsky@actioncoach.com"> hannahbrowsky@actioncoach.com</a><br />\n<br />\n<strong>Case studies - ActionCOACH clients tell all:</strong><br />\nSuccess leaves clues. On average our clients achieve 50% growth in revenue and 135% growth in profit year over year. We will show you exactly what they did to achieve this growth and how you can apply these tools to YOUR business.<br />\n<br />\n<strong>Speaker: Brittany Douglas\, Certified Business Coach</strong><br />\nBrittany Douglass is a certified business coach with ActionCOACH Central Ohio &ndash\; an award-winning business coaching firm ranking in the Top 5 in the U.S. &amp\; Top 20 worldwide. She has led teams within both large corporate-structured companies and small\, independently owned organizations. Brittany has proven success in coaching organizations in business development\, growth\, sales\, customer experience\, and team building\, and she now helps clients achieve double and triple-digit growth in profitability year over year (while they work less!)
LOCATION:Lancaster Fairfield County Chamber of Commerce 109 N. Broad St Suite #100\, Lancaster\, OH
UID:e.3121.635
SEQUENCE:3
DTSTAMP:20260420T094938Z
URL:https://business.lancoc.org/events/details/actioncoach-of-central-ohio-how-to-build-a-business-you-can-sell-635
END:VEVENT

END:VCALENDAR
